| Back to Multiple platform build/check report for BioC 3.7 |
|
This page was generated on 2018-10-17 08:46:38 -0400 (Wed, 17 Oct 2018).
| Package 192/1561 | Hostname | OS / Arch | INSTALL | BUILD | CHECK | BUILD BIN | ||||||
| Category 2.46.0 Bioconductor Package Maintainer
| malbec2 | Linux (Ubuntu 16.04.1 LTS) / x86_64 | OK | OK | OK | |||||||
| tokay2 | Windows Server 2012 R2 Standard / x64 | OK | OK | OK | OK | |||||||
| merida2 | OS X 10.11.6 El Capitan / x86_64 | OK | OK | OK | [ OK ] |
| Package: Category |
| Version: 2.46.0 |
| Command: rm -rf Category.buildbin-libdir && mkdir Category.buildbin-libdir && /Users/biocbuild/BBS/utils/build-universal.sh Category_2.46.0.tar.gz /Library/Frameworks/R.framework/Versions/Current/Resources/bin/R Category.buildbin-libdir |
| StartedAt: 2018-10-17 01:02:17 -0400 (Wed, 17 Oct 2018) |
| EndedAt: 2018-10-17 01:03:09 -0400 (Wed, 17 Oct 2018) |
| EllapsedTime: 52.4 seconds |
| RetCode: 0 |
| Status: OK |
| PackageFile: Category_2.46.0.tgz |
| PackageFileSize: 1.21 MiB |
############################################################################## ############################################################################## ### ### Running command: ### ### rm -rf Category.buildbin-libdir && mkdir Category.buildbin-libdir && /Users/biocbuild/BBS/utils/build-universal.sh Category_2.46.0.tar.gz /Library/Frameworks/R.framework/Versions/Current/Resources/bin/R Category.buildbin-libdir ### ############################################################################## ############################################################################## >>>>>>> >>>>>>> INSTALLATION WITH 'R CMD INSTALL --preclean --no-multiarch --library=Category.buildbin-libdir Category_2.46.0.tar.gz' >>>>>>> * installing *source* package ‘Category’ ... ** R ** inst ** byte-compile and prepare package for lazy loading ** help *** installing help indices ** building package indices ** installing vignettes ** testing if installed package can be loaded * DONE (Category)