| Back to Multiple platform build/check report for BioC 3.7 |
|
This page was generated on 2018-10-17 08:27:10 -0400 (Wed, 17 Oct 2018).
| Package 189/1561 | Hostname | OS / Arch | INSTALL | BUILD | CHECK | BUILD BIN | ||||||
| Cardinal 1.12.1 Kylie A. Bemis
| malbec2 | Linux (Ubuntu 16.04.1 LTS) / x86_64 | [ OK ] | OK | OK | |||||||
| tokay2 | Windows Server 2012 R2 Standard / x64 | OK | OK | OK | OK | |||||||
| merida2 | OS X 10.11.6 El Capitan / x86_64 | OK | OK | OK | OK |
| Package: Cardinal |
| Version: 1.12.1 |
| Command: /home/biocbuild/bbs-3.7-bioc/R/bin/R CMD INSTALL Cardinal |
| StartedAt: 2018-10-15 18:01:33 -0400 (Mon, 15 Oct 2018) |
| EndedAt: 2018-10-15 18:01:54 -0400 (Mon, 15 Oct 2018) |
| EllapsedTime: 21.3 seconds |
| RetCode: 0 |
| Status: OK |
##############################################################################
##############################################################################
###
### Running command:
###
### /home/biocbuild/bbs-3.7-bioc/R/bin/R CMD INSTALL Cardinal
###
##############################################################################
##############################################################################
* installing to library ‘/home/biocbuild/bbs-3.7-bioc/R/library’
* installing *source* package ‘Cardinal’ ...
** libs
gcc -I"/home/biocbuild/bbs-3.7-bioc/R/include" -DNDEBUG -I/usr/local/include -fpic -g -O2 -Wall -c dynamicAlign.c -o dynamicAlign.o
gcc -I"/home/biocbuild/bbs-3.7-bioc/R/include" -DNDEBUG -I/usr/local/include -fpic -g -O2 -Wall -c fastmap.c -o fastmap.o
fastmap.c: In function ‘choose_distant_objects’:
fastmap.c:59:24: warning: ‘o_b’ may be used uninitialized in this function [-Wmaybe-uninitialized]
pivot_objects->b[col] = o_b;
^
g++ -I"/home/biocbuild/bbs-3.7-bioc/R/include" -DNDEBUG -I/usr/local/include -fpic -g -O2 -Wall -c imzML.cpp -o imzML.o
gcc -I"/home/biocbuild/bbs-3.7-bioc/R/include" -DNDEBUG -I/usr/local/include -fpic -g -O2 -Wall -c localMaxima.c -o localMaxima.o
g++ -I"/home/biocbuild/bbs-3.7-bioc/R/include" -DNDEBUG -I/usr/local/include -fpic -g -O2 -Wall -c pugixml.cpp -o pugixml.o
gcc -I"/home/biocbuild/bbs-3.7-bioc/R/include" -DNDEBUG -I/usr/local/include -fpic -g -O2 -Wall -c smooth.c -o smooth.o
gcc -I"/home/biocbuild/bbs-3.7-bioc/R/include" -DNDEBUG -I/usr/local/include -fpic -g -O2 -Wall -c spatial.c -o spatial.o
g++ -I"/home/biocbuild/bbs-3.7-bioc/R/include" -DNDEBUG -I/usr/local/include -fpic -g -O2 -Wall -c utils.cpp -o utils.o
g++ -shared -L/home/biocbuild/bbs-3.7-bioc/R/lib -L/usr/local/lib -o Cardinal.so dynamicAlign.o fastmap.o imzML.o localMaxima.o pugixml.o smooth.o spatial.o utils.o -L/home/biocbuild/bbs-3.7-bioc/R/lib -lR
installing to /home/biocbuild/bbs-3.7-bioc/R/library/Cardinal/libs
** R
** inst
** byte-compile and prepare package for lazy loading
** help
*** installing help indices
** building package indices
** installing vignettes
** testing if installed package can be loaded
* DONE (Cardinal)