| Back to Multiple platform build/check report for BioC 3.7 |
|
This page was generated on 2018-10-17 08:42:44 -0400 (Wed, 17 Oct 2018).
| Package 186/1561 | Hostname | OS / Arch | INSTALL | BUILD | CHECK | BUILD BIN | ||||||
| CancerSubtypes 1.6.0 Taosheng Xu
| malbec2 | Linux (Ubuntu 16.04.1 LTS) / x86_64 | OK | OK | OK | |||||||
| tokay2 | Windows Server 2012 R2 Standard / x64 | [ OK ] | OK | OK | OK | |||||||
| merida2 | OS X 10.11.6 El Capitan / x86_64 | OK | OK | OK | OK |
| Package: CancerSubtypes |
| Version: 1.6.0 |
| Command: C:\cygwin\bin\curl.exe -O https://malbec2.bioconductor.org/BBS/3.7/bioc/src/contrib/CancerSubtypes_1.6.0.tar.gz && rm -rf CancerSubtypes.buildbin-libdir && mkdir CancerSubtypes.buildbin-libdir && C:\Users\biocbuild\bbs-3.7-bioc\R\bin\R.exe CMD INSTALL --merge-multiarch --build --library=CancerSubtypes.buildbin-libdir CancerSubtypes_1.6.0.tar.gz && C:\Users\biocbuild\bbs-3.7-bioc\R\bin\R.exe CMD INSTALL CancerSubtypes_1.6.0.zip && rm CancerSubtypes_1.6.0.tar.gz CancerSubtypes_1.6.0.zip |
| StartedAt: 2018-10-16 20:18:19 -0400 (Tue, 16 Oct 2018) |
| EndedAt: 2018-10-16 20:19:30 -0400 (Tue, 16 Oct 2018) |
| EllapsedTime: 70.7 seconds |
| RetCode: 0 |
| Status: OK |
##############################################################################
##############################################################################
###
### Running command:
###
### C:\cygwin\bin\curl.exe -O https://malbec2.bioconductor.org/BBS/3.7/bioc/src/contrib/CancerSubtypes_1.6.0.tar.gz && rm -rf CancerSubtypes.buildbin-libdir && mkdir CancerSubtypes.buildbin-libdir && C:\Users\biocbuild\bbs-3.7-bioc\R\bin\R.exe CMD INSTALL --merge-multiarch --build --library=CancerSubtypes.buildbin-libdir CancerSubtypes_1.6.0.tar.gz && C:\Users\biocbuild\bbs-3.7-bioc\R\bin\R.exe CMD INSTALL CancerSubtypes_1.6.0.zip && rm CancerSubtypes_1.6.0.tar.gz CancerSubtypes_1.6.0.zip
###
##############################################################################
##############################################################################
% Total % Received % Xferd Average Speed Time Time Time Current
Dload Upload Total Spent Left Speed
0 0 0 0 0 0 0 0 --:--:-- --:--:-- --:--:-- 0
100 1873k 100 1873k 0 0 20.2M 0 --:--:-- --:--:-- --:--:-- 22.0M
install for i386
* installing *source* package 'CancerSubtypes' ...
** R
** data
** inst
** byte-compile and prepare package for lazy loading
** help
*** installing help indices
converting help for package 'CancerSubtypes'
finding HTML links ... done
DiffExp.limma html
ExecuteCC html
ExecuteCNMF html
finding level-2 HTML links ... done
ExecuteSNF.CC html
ExecuteSNF html
ExecuteWSNF html
ExecuteiCluster html
FSbyCox html
FSbyMAD html
FSbyPCA html
FSbyVar html
GeneExp html
Ranking html
data.checkDistribution html
data.imputation html
data.normalization html
drawHeatmap html
miRNAExp html
saveFigure html
sigclustTest html
silhouette_SimilarityMatrix html
spectralAlg html
status html
survAnalysis html
time html
** building package indices
** installing vignettes
** testing if installed package can be loaded
In R CMD INSTALL
install for x64
* installing *source* package 'CancerSubtypes' ...
** testing if installed package can be loaded
* MD5 sums
packaged installation of 'CancerSubtypes' as CancerSubtypes_1.6.0.zip
* DONE (CancerSubtypes)
In R CMD INSTALL
In R CMD INSTALL
* installing to library 'C:/Users/biocbuild/bbs-3.7-bioc/R/library'
package 'CancerSubtypes' successfully unpacked and MD5 sums checked
In R CMD INSTALL