| Back to Multiple platform build/check report for BioC 3.7 |
|
This page was generated on 2018-10-17 08:34:31 -0400 (Wed, 17 Oct 2018).
| Package 326/1561 | Hostname | OS / Arch | INSTALL | BUILD | CHECK | BUILD BIN | ||||||
| CSAR 1.32.0 Jose M Muino
| malbec2 | Linux (Ubuntu 16.04.1 LTS) / x86_64 | OK | OK | OK | |||||||
| tokay2 | Windows Server 2012 R2 Standard / x64 | [ OK ] | OK | OK | OK | |||||||
| merida2 | OS X 10.11.6 El Capitan / x86_64 | OK | OK | OK | OK |
| Package: CSAR |
| Version: 1.32.0 |
| Command: C:\cygwin\bin\curl.exe -O https://malbec2.bioconductor.org/BBS/3.7/bioc/src/contrib/CSAR_1.32.0.tar.gz && rm -rf CSAR.buildbin-libdir && mkdir CSAR.buildbin-libdir && C:\Users\biocbuild\bbs-3.7-bioc\R\bin\R.exe CMD INSTALL --merge-multiarch --build --library=CSAR.buildbin-libdir CSAR_1.32.0.tar.gz && C:\Users\biocbuild\bbs-3.7-bioc\R\bin\R.exe CMD INSTALL CSAR_1.32.0.zip && rm CSAR_1.32.0.tar.gz CSAR_1.32.0.zip |
| StartedAt: 2018-10-16 19:23:49 -0400 (Tue, 16 Oct 2018) |
| EndedAt: 2018-10-16 19:24:41 -0400 (Tue, 16 Oct 2018) |
| EllapsedTime: 52.5 seconds |
| RetCode: 0 |
| Status: OK |
##############################################################################
##############################################################################
###
### Running command:
###
### C:\cygwin\bin\curl.exe -O https://malbec2.bioconductor.org/BBS/3.7/bioc/src/contrib/CSAR_1.32.0.tar.gz && rm -rf CSAR.buildbin-libdir && mkdir CSAR.buildbin-libdir && C:\Users\biocbuild\bbs-3.7-bioc\R\bin\R.exe CMD INSTALL --merge-multiarch --build --library=CSAR.buildbin-libdir CSAR_1.32.0.tar.gz && C:\Users\biocbuild\bbs-3.7-bioc\R\bin\R.exe CMD INSTALL CSAR_1.32.0.zip && rm CSAR_1.32.0.tar.gz CSAR_1.32.0.zip
###
##############################################################################
##############################################################################
% Total % Received % Xferd Average Speed Time Time Time Current
Dload Upload Total Spent Left Speed
0 0 0 0 0 0 0 0 --:--:-- --:--:-- --:--:-- 0
100 25071 100 25071 0 0 409k 0 --:--:-- --:--:-- --:--:-- 461k
install for i386
* installing *source* package 'CSAR' ...
** libs
C:/Rtools/mingw_32/bin/gcc -I"C:/Users/BIOCBU˜1/BBS-3˜1.7-B/R/include" -DNDEBUG -I"C:/extsoft/include" -O3 -Wall -std=gnu99 -mtune=generic -c CSAR.c -o CSAR.o
C:/Rtools/mingw_32/bin/gcc -shared -s -static-libgcc -o CSAR.dll tmp.def CSAR.o -LC:/extsoft/lib/i386 -LC:/extsoft/lib -LC:/Users/BIOCBU˜1/BBS-3˜1.7-B/R/bin/i386 -lR
installing to C:/Users/biocbuild/bbs-3.7-bioc/meat/CSAR.buildbin-libdir/CSAR/libs/i386
** R
** data
*** moving datasets to lazyload DB
** inst
** byte-compile and prepare package for lazy loading
** help
*** installing help indices
converting help for package 'CSAR'
finding HTML links ... done
CSAR-package html
ChIPseqScore html
distance2Genes html
genesWithPeaks html
getPermutatedWinScores html
getThreshold html
loadMappedReads html
mappedReads2Nhits html
permutatedWinScores html
sampleSEP3_test html
score2wig html
sigWin html
** building package indices
** installing vignettes
** testing if installed package can be loaded
In R CMD INSTALL
install for x64
* installing *source* package 'CSAR' ...
** libs
C:/Rtools/mingw_64/bin/gcc -I"C:/Users/BIOCBU˜1/BBS-3˜1.7-B/R/include" -DNDEBUG -I"C:/extsoft/include" -O2 -Wall -std=gnu99 -mtune=generic -c CSAR.c -o CSAR.o
C:/Rtools/mingw_64/bin/gcc -shared -s -static-libgcc -o CSAR.dll tmp.def CSAR.o -LC:/extsoft/lib/x64 -LC:/extsoft/lib -LC:/Users/BIOCBU˜1/BBS-3˜1.7-B/R/bin/x64 -lR
installing to C:/Users/biocbuild/bbs-3.7-bioc/meat/CSAR.buildbin-libdir/CSAR/libs/x64
** testing if installed package can be loaded
* MD5 sums
packaged installation of 'CSAR' as CSAR_1.32.0.zip
* DONE (CSAR)
In R CMD INSTALL
In R CMD INSTALL
* installing to library 'C:/Users/biocbuild/bbs-3.7-bioc/R/library'
package 'CSAR' successfully unpacked and MD5 sums checked
In R CMD INSTALL