| Back to Multiple platform build/check report for BioC 3.7 |
|
This page was generated on 2018-10-17 08:34:59 -0400 (Wed, 17 Oct 2018).
| Package 320/1561 | Hostname | OS / Arch | INSTALL | BUILD | CHECK | BUILD BIN | ||||||
| CRImage 1.28.0 Henrik Failmezger
| malbec2 | Linux (Ubuntu 16.04.1 LTS) / x86_64 | OK | OK | OK | |||||||
| tokay2 | Windows Server 2012 R2 Standard / x64 | [ OK ] | OK | OK | OK | |||||||
| merida2 | OS X 10.11.6 El Capitan / x86_64 | OK | OK | OK | OK |
| Package: CRImage |
| Version: 1.28.0 |
| Command: C:\cygwin\bin\curl.exe -O https://malbec2.bioconductor.org/BBS/3.7/bioc/src/contrib/CRImage_1.28.0.tar.gz && rm -rf CRImage.buildbin-libdir && mkdir CRImage.buildbin-libdir && C:\Users\biocbuild\bbs-3.7-bioc\R\bin\R.exe CMD INSTALL --merge-multiarch --build --library=CRImage.buildbin-libdir CRImage_1.28.0.tar.gz && C:\Users\biocbuild\bbs-3.7-bioc\R\bin\R.exe CMD INSTALL CRImage_1.28.0.zip && rm CRImage_1.28.0.tar.gz CRImage_1.28.0.zip |
| StartedAt: 2018-10-16 19:10:57 -0400 (Tue, 16 Oct 2018) |
| EndedAt: 2018-10-16 19:12:25 -0400 (Tue, 16 Oct 2018) |
| EllapsedTime: 88.1 seconds |
| RetCode: 0 |
| Status: OK |
##############################################################################
##############################################################################
###
### Running command:
###
### C:\cygwin\bin\curl.exe -O https://malbec2.bioconductor.org/BBS/3.7/bioc/src/contrib/CRImage_1.28.0.tar.gz && rm -rf CRImage.buildbin-libdir && mkdir CRImage.buildbin-libdir && C:\Users\biocbuild\bbs-3.7-bioc\R\bin\R.exe CMD INSTALL --merge-multiarch --build --library=CRImage.buildbin-libdir CRImage_1.28.0.tar.gz && C:\Users\biocbuild\bbs-3.7-bioc\R\bin\R.exe CMD INSTALL CRImage_1.28.0.zip && rm CRImage_1.28.0.tar.gz CRImage_1.28.0.zip
###
##############################################################################
##############################################################################
% Total % Received % Xferd Average Speed Time Time Time Current
Dload Upload Total Spent Left Speed
0 0 0 0 0 0 0 0 --:--:-- --:--:-- --:--:-- 0
100 6442k 100 6442k 0 0 44.6M 0 --:--:-- --:--:-- --:--:-- 46.9M
install for i386
* installing *source* package 'CRImage' ...
** R
** inst
** byte-compile and prepare package for lazy loading
** help
*** installing help indices
converting help for package 'CRImage'
finding HTML links ... done
CRImage-internal html
CRImage-package html
SauvolaThreshold html
calculateCellularity html
calculateMeanStdTarget html
calculateOtsu html
classifyCells html
colorCorrection html
convertHSVToRGB html
convertLABToRGB html
convertRGBToHSV html
convertRGBToLAB html
correctCopyNumber html
createBinaryImage html
createClassifier html
labelCells html
plotCorrectedCN html
processAperio html
segmentImage html
** building package indices
** installing vignettes
** testing if installed package can be loaded
In R CMD INSTALL
install for x64
* installing *source* package 'CRImage' ...
** testing if installed package can be loaded
* MD5 sums
packaged installation of 'CRImage' as CRImage_1.28.0.zip
* DONE (CRImage)
In R CMD INSTALL
In R CMD INSTALL
* installing to library 'C:/Users/biocbuild/bbs-3.7-bioc/R/library'
package 'CRImage' successfully unpacked and MD5 sums checked
In R CMD INSTALL