| Back to Multiple platform build/check report for BioC 3.7 |
|
This page was generated on 2018-10-17 08:38:00 -0400 (Wed, 17 Oct 2018).
| Package 321/1561 | Hostname | OS / Arch | INSTALL | BUILD | CHECK | BUILD BIN | ||||||
| CRISPRseek 1.20.0 Lihua Julie Zhu
| malbec2 | Linux (Ubuntu 16.04.1 LTS) / x86_64 | OK | OK | WARNINGS | |||||||
| tokay2 | Windows Server 2012 R2 Standard / x64 | OK | OK | WARNINGS | [ OK ] | |||||||
| merida2 | OS X 10.11.6 El Capitan / x86_64 | OK | OK | WARNINGS | OK |
| Package: CRISPRseek |
| Version: 1.20.0 |
| Command: rm -rf CRISPRseek.buildbin-libdir && mkdir CRISPRseek.buildbin-libdir && C:\Users\biocbuild\bbs-3.7-bioc\R\bin\R.exe CMD INSTALL --merge-multiarch --build --library=CRISPRseek.buildbin-libdir CRISPRseek_1.20.0.tar.gz |
| StartedAt: 2018-10-17 06:12:52 -0400 (Wed, 17 Oct 2018) |
| EndedAt: 2018-10-17 06:13:37 -0400 (Wed, 17 Oct 2018) |
| EllapsedTime: 45.9 seconds |
| RetCode: 0 |
| Status: OK |
| PackageFile: CRISPRseek_1.20.0.zip |
| PackageFileSize: 543.3 KiB |
##############################################################################
##############################################################################
###
### Running command:
###
### rm -rf CRISPRseek.buildbin-libdir && mkdir CRISPRseek.buildbin-libdir && C:\Users\biocbuild\bbs-3.7-bioc\R\bin\R.exe CMD INSTALL --merge-multiarch --build --library=CRISPRseek.buildbin-libdir CRISPRseek_1.20.0.tar.gz
###
##############################################################################
##############################################################################
install for i386
* installing *source* package 'CRISPRseek' ...
** R
** inst
** byte-compile and prepare package for lazy loading
Note: possible error in 'fold(s = gRNA.backbone, ': unused arguments (s = gRNA.backbone, t = temperature)
Note: possible error in 'fold(paste(gRNAs[i], ': unused argument (t = temperature)
** help
*** installing help indices
converting help for package 'CRISPRseek'
finding HTML links ... done
CRISPRseek-package html
annotateOffTargets html
buildFeatureVectorForScoring html
calculategRNAEfficiency html
compare2Sequences html
filterOffTarget html
filtergRNA html
findgRNAs html
foldgRNAs html
getOfftargetScore html
isPatternUnique html
offTargetAnalysis html
searchHits html
searchHits2 html
translatePattern html
uniqueREs html
writeHits html
writeHits2 html
** building package indices
** installing vignettes
** testing if installed package can be loaded
In R CMD INSTALL
install for x64
* installing *source* package 'CRISPRseek' ...
** testing if installed package can be loaded
* MD5 sums
packaged installation of 'CRISPRseek' as CRISPRseek_1.20.0.zip
* DONE (CRISPRseek)
In R CMD INSTALL
In R CMD INSTALL