| Back to Multiple platform build/check report for BioC 3.7 |
|
This page was generated on 2018-10-17 08:42:05 -0400 (Wed, 17 Oct 2018).
| Package 297/1561 | Hostname | OS / Arch | INSTALL | BUILD | CHECK | BUILD BIN | ||||||
| CONFESS 1.8.0 Diana LOW
| malbec2 | Linux (Ubuntu 16.04.1 LTS) / x86_64 | OK | OK | WARNINGS | |||||||
| tokay2 | Windows Server 2012 R2 Standard / x64 | OK | [ OK ] | WARNINGS | OK | |||||||
| merida2 | OS X 10.11.6 El Capitan / x86_64 | OK | OK | WARNINGS | OK |
| Package: CONFESS |
| Version: 1.8.0 |
| Command: chmod a+r CONFESS -R && C:\Users\biocbuild\bbs-3.7-bioc\R\bin\R.exe --arch x64 CMD build --keep-empty-dirs --no-resave-data CONFESS |
| StartedAt: 2018-10-16 23:05:46 -0400 (Tue, 16 Oct 2018) |
| EndedAt: 2018-10-16 23:07:31 -0400 (Tue, 16 Oct 2018) |
| EllapsedTime: 105.1 seconds |
| RetCode: 0 |
| Status: OK |
| PackageFile: CONFESS_1.8.0.tar.gz |
| PackageFileSize: 3.571 MiB |
##############################################################################
##############################################################################
###
### Running command:
###
### chmod a+r CONFESS -R && C:\Users\biocbuild\bbs-3.7-bioc\R\bin\R.exe --arch x64 CMD build --keep-empty-dirs --no-resave-data CONFESS
###
##############################################################################
##############################################################################
* checking for file 'CONFESS/DESCRIPTION' ... OK
* preparing 'CONFESS':
* checking DESCRIPTION meta-information ... OK
* installing the package to build vignettes
* creating vignettes ... OK
Warning: 'inst/doc' file
'vignette_tex.R'
ignored as vignettes have been rebuilt.
Run R CMD build with --no-build-vignettes to prevent rebuilding.
* checking for LF line-endings in source and make files and shell scripts
* checking for empty or unneeded directories
* looking to see if a 'data/datalist' file should be added
* building 'CONFESS_1.8.0.tar.gz'