| Back to Multiple platform build/check report for BioC 3.7 | 
  | 
This page was generated on 2018-10-17 08:52:32 -0400 (Wed, 17 Oct 2018).
| Package 292/1561 | Hostname | OS / Arch | INSTALL | BUILD | CHECK | BUILD BIN | ||||||
| COMPASS 1.18.1 Greg Finak 
  | malbec2 | Linux (Ubuntu 16.04.1 LTS) / x86_64 | OK | OK | OK | |||||||
| tokay2 | Windows Server 2012 R2 Standard / x64 | OK | OK | OK | OK | |||||||
| merida2 | OS X 10.11.6 El Capitan / x86_64 | OK | [ OK ] | OK | OK | 
| Package: COMPASS | 
| Version: 1.18.1 | 
| Command: /Library/Frameworks/R.framework/Versions/Current/Resources/bin/R CMD build --keep-empty-dirs --no-resave-data COMPASS | 
| StartedAt: 2018-10-16 17:23:25 -0400 (Tue, 16 Oct 2018) | 
| EndedAt: 2018-10-16 17:27:45 -0400 (Tue, 16 Oct 2018) | 
| EllapsedTime: 259.9 seconds | 
| RetCode: 0 | 
| Status: OK | 
| PackageFile: COMPASS_1.18.1.tar.gz | 
| PackageFileSize: 1006 KiB | 
############################################################################## ############################################################################## ### ### Running command: ### ### /Library/Frameworks/R.framework/Versions/Current/Resources/bin/R CMD build --keep-empty-dirs --no-resave-data COMPASS ### ############################################################################## ############################################################################## * checking for file ‘COMPASS/DESCRIPTION’ ... OK * preparing ‘COMPASS’: * checking DESCRIPTION meta-information ... OK * cleaning src * running ‘cleanup’ * installing the package to build vignettes * creating vignettes ... OK * cleaning src * running ‘cleanup’ * checking for LF line-endings in source and make files and shell scripts * checking for empty or unneeded directories WARNING: directory ‘COMPASS/examples’ is empty WARNING: directory ‘COMPASS/incubator’ is empty WARNING: directory ‘COMPASS/internal’ is empty WARNING: directory ‘COMPASS/refactor’ is empty WARNING: directory ‘COMPASS/scratch’ is empty * looking to see if a ‘data/datalist’ file should be added * building ‘COMPASS_1.18.1.tar.gz’