| Back to Multiple platform build/check report for BioC 3.7 |
|
This page was generated on 2018-10-17 08:36:30 -0400 (Wed, 17 Oct 2018).
| Package 274/1561 | Hostname | OS / Arch | INSTALL | BUILD | CHECK | BUILD BIN | ||||||
| CNORfuzzy 1.22.0 T. Cokelaer
| malbec2 | Linux (Ubuntu 16.04.1 LTS) / x86_64 | OK | OK | OK | |||||||
| tokay2 | Windows Server 2012 R2 Standard / x64 | OK | OK | OK | [ OK ] | |||||||
| merida2 | OS X 10.11.6 El Capitan / x86_64 | OK | OK | OK | OK |
| Package: CNORfuzzy |
| Version: 1.22.0 |
| Command: rm -rf CNORfuzzy.buildbin-libdir && mkdir CNORfuzzy.buildbin-libdir && C:\Users\biocbuild\bbs-3.7-bioc\R\bin\R.exe CMD INSTALL --merge-multiarch --build --library=CNORfuzzy.buildbin-libdir CNORfuzzy_1.22.0.tar.gz |
| StartedAt: 2018-10-17 06:10:57 -0400 (Wed, 17 Oct 2018) |
| EndedAt: 2018-10-17 06:11:13 -0400 (Wed, 17 Oct 2018) |
| EllapsedTime: 16.8 seconds |
| RetCode: 0 |
| Status: OK |
| PackageFile: CNORfuzzy_1.22.0.zip |
| PackageFileSize: 727.7 KiB |
##############################################################################
##############################################################################
###
### Running command:
###
### rm -rf CNORfuzzy.buildbin-libdir && mkdir CNORfuzzy.buildbin-libdir && C:\Users\biocbuild\bbs-3.7-bioc\R\bin\R.exe CMD INSTALL --merge-multiarch --build --library=CNORfuzzy.buildbin-libdir CNORfuzzy_1.22.0.tar.gz
###
##############################################################################
##############################################################################
install for i386
* installing *source* package 'CNORfuzzy' ...
** libs
C:/Rtools/mingw_32/bin/gcc -I"C:/Users/BIOCBU˜1/BBS-3˜1.7-B/R/include" -DNDEBUG -I"C:/extsoft/include" -O3 -Wall -std=gnu99 -mtune=generic -c simulatorT1.c -o simulatorT1.o
C:/Rtools/mingw_32/bin/gcc -shared -s -static-libgcc -o CNORfuzzy.dll tmp.def simulatorT1.o -LC:/extsoft/lib/i386 -LC:/extsoft/lib -LC:/Users/BIOCBU˜1/BBS-3˜1.7-B/R/bin/i386 -lR
installing to C:/Users/biocbuild/bbs-3.7-bioc/meat/CNORfuzzy.buildbin-libdir/CNORfuzzy/libs/i386
** R
** inst
** byte-compile and prepare package for lazy loading
** help
*** installing help indices
converting help for package 'CNORfuzzy'
finding HTML links ... done
CNORfuzzy-package html
finding level-2 HTML links ... done
CNORwrapFuzzy html
compileMultiRes html
computeScoreFuzzy html
defaultParametersFuzzy html
gaDiscreteT1 html
getRefinedModel html
interpretDiscreteGA html
plotMeanFuzzyFit html
prep4simFuzzy html
reduceFuzzy html
simFuzzyT1 html
writeFuzzyNetwork html
** building package indices
** installing vignettes
** testing if installed package can be loaded
In R CMD INSTALL
install for x64
* installing *source* package 'CNORfuzzy' ...
** libs
C:/Rtools/mingw_64/bin/gcc -I"C:/Users/BIOCBU˜1/BBS-3˜1.7-B/R/include" -DNDEBUG -I"C:/extsoft/include" -O2 -Wall -std=gnu99 -mtune=generic -c simulatorT1.c -o simulatorT1.o
C:/Rtools/mingw_64/bin/gcc -shared -s -static-libgcc -o CNORfuzzy.dll tmp.def simulatorT1.o -LC:/extsoft/lib/x64 -LC:/extsoft/lib -LC:/Users/BIOCBU˜1/BBS-3˜1.7-B/R/bin/x64 -lR
installing to C:/Users/biocbuild/bbs-3.7-bioc/meat/CNORfuzzy.buildbin-libdir/CNORfuzzy/libs/x64
** testing if installed package can be loaded
* MD5 sums
packaged installation of 'CNORfuzzy' as CNORfuzzy_1.22.0.zip
* DONE (CNORfuzzy)
In R CMD INSTALL
In R CMD INSTALL