| Back to Multiple platform build/check report for BioC 3.7 |
|
This page was generated on 2018-10-17 08:33:52 -0400 (Wed, 17 Oct 2018).
| Package 217/1561 | Hostname | OS / Arch | INSTALL | BUILD | CHECK | BUILD BIN | ||||||
| CGHregions 1.38.0 Sjoerd Vosse
| malbec2 | Linux (Ubuntu 16.04.1 LTS) / x86_64 | OK | OK | OK | |||||||
| tokay2 | Windows Server 2012 R2 Standard / x64 | OK | OK | OK | [ OK ] | |||||||
| merida2 | OS X 10.11.6 El Capitan / x86_64 | OK | OK | OK | OK |
| Package: CGHregions |
| Version: 1.38.0 |
| Command: rm -rf CGHregions.buildbin-libdir && mkdir CGHregions.buildbin-libdir && C:\Users\biocbuild\bbs-3.7-bioc\R\bin\R.exe CMD INSTALL --merge-multiarch --build --library=CGHregions.buildbin-libdir CGHregions_1.38.0.tar.gz |
| StartedAt: 2018-10-17 06:08:26 -0400 (Wed, 17 Oct 2018) |
| EndedAt: 2018-10-17 06:08:35 -0400 (Wed, 17 Oct 2018) |
| EllapsedTime: 8.7 seconds |
| RetCode: 0 |
| Status: OK |
| PackageFile: CGHregions_1.38.0.zip |
| PackageFileSize: 173.9 KiB |
##############################################################################
##############################################################################
###
### Running command:
###
### rm -rf CGHregions.buildbin-libdir && mkdir CGHregions.buildbin-libdir && C:\Users\biocbuild\bbs-3.7-bioc\R\bin\R.exe CMD INSTALL --merge-multiarch --build --library=CGHregions.buildbin-libdir CGHregions_1.38.0.tar.gz
###
##############################################################################
##############################################################################
install for i386
* installing *source* package 'CGHregions' ...
** R
** inst
** byte-compile and prepare package for lazy loading
** help
*** installing help indices
converting help for package 'CGHregions'
finding HTML links ... done
CGHregions-package html
CGHregions html
** building package indices
** installing vignettes
** testing if installed package can be loaded
In R CMD INSTALL
install for x64
* installing *source* package 'CGHregions' ...
** testing if installed package can be loaded
* MD5 sums
packaged installation of 'CGHregions' as CGHregions_1.38.0.zip
* DONE (CGHregions)
In R CMD INSTALL
In R CMD INSTALL