Back to Multiple platform build/check report for BioC 3.7 |
|
This page was generated on 2018-10-17 08:34:26 -0400 (Wed, 17 Oct 2018).
Package 216/1561 | Hostname | OS / Arch | INSTALL | BUILD | CHECK | BUILD BIN | ||||||
CGHnormaliter 1.34.0 Bart P.P. van Houte
| malbec2 | Linux (Ubuntu 16.04.1 LTS) / x86_64 | OK | OK | OK | |||||||
tokay2 | Windows Server 2012 R2 Standard / x64 | OK | OK | OK | [ OK ] | |||||||
merida2 | OS X 10.11.6 El Capitan / x86_64 | OK | OK | OK | OK |
Package: CGHnormaliter |
Version: 1.34.0 |
Command: rm -rf CGHnormaliter.buildbin-libdir && mkdir CGHnormaliter.buildbin-libdir && C:\Users\biocbuild\bbs-3.7-bioc\R\bin\R.exe CMD INSTALL --merge-multiarch --build --library=CGHnormaliter.buildbin-libdir CGHnormaliter_1.34.0.tar.gz |
StartedAt: 2018-10-17 06:08:24 -0400 (Wed, 17 Oct 2018) |
EndedAt: 2018-10-17 06:08:33 -0400 (Wed, 17 Oct 2018) |
EllapsedTime: 8.4 seconds |
RetCode: 0 |
Status: OK |
PackageFile: CGHnormaliter_1.34.0.zip |
PackageFileSize: 1.001 MiB |
############################################################################## ############################################################################## ### ### Running command: ### ### rm -rf CGHnormaliter.buildbin-libdir && mkdir CGHnormaliter.buildbin-libdir && C:\Users\biocbuild\bbs-3.7-bioc\R\bin\R.exe CMD INSTALL --merge-multiarch --build --library=CGHnormaliter.buildbin-libdir CGHnormaliter_1.34.0.tar.gz ### ############################################################################## ############################################################################## install for i386 * installing *source* package 'CGHnormaliter' ... ** R ** data ** inst ** byte-compile and prepare package for lazy loading ** help *** installing help indices converting help for package 'CGHnormaliter' finding HTML links ... done CGHnormaliter-internal html CGHnormaliter-package html CGHnormaliter html CGHnormaliter.write.table html Leukemia html ** building package indices ** installing vignettes ** testing if installed package can be loaded In R CMD INSTALL install for x64 * installing *source* package 'CGHnormaliter' ... ** testing if installed package can be loaded * MD5 sums packaged installation of 'CGHnormaliter' as CGHnormaliter_1.34.0.zip * DONE (CGHnormaliter) In R CMD INSTALL In R CMD INSTALL