| Back to Multiple platform build/check report for BioC 3.7 |
|
This page was generated on 2018-10-17 08:33:32 -0400 (Wed, 17 Oct 2018).
| Package 214/1561 | Hostname | OS / Arch | INSTALL | BUILD | CHECK | BUILD BIN | ||||||
| CGHcall 2.42.0 Mark van de Wiel
| malbec2 | Linux (Ubuntu 16.04.1 LTS) / x86_64 | OK | OK | OK | |||||||
| tokay2 | Windows Server 2012 R2 Standard / x64 | OK | OK | OK | [ OK ] | |||||||
| merida2 | OS X 10.11.6 El Capitan / x86_64 | OK | OK | OK | OK |
| Package: CGHcall |
| Version: 2.42.0 |
| Command: rm -rf CGHcall.buildbin-libdir && mkdir CGHcall.buildbin-libdir && C:\Users\biocbuild\bbs-3.7-bioc\R\bin\R.exe CMD INSTALL --merge-multiarch --build --library=CGHcall.buildbin-libdir CGHcall_2.42.0.tar.gz |
| StartedAt: 2018-10-17 06:08:20 -0400 (Wed, 17 Oct 2018) |
| EndedAt: 2018-10-17 06:08:41 -0400 (Wed, 17 Oct 2018) |
| EllapsedTime: 21.2 seconds |
| RetCode: 0 |
| Status: OK |
| PackageFile: CGHcall_2.42.0.zip |
| PackageFileSize: 446.6 KiB |
##############################################################################
##############################################################################
###
### Running command:
###
### rm -rf CGHcall.buildbin-libdir && mkdir CGHcall.buildbin-libdir && C:\Users\biocbuild\bbs-3.7-bioc\R\bin\R.exe CMD INSTALL --merge-multiarch --build --library=CGHcall.buildbin-libdir CGHcall_2.42.0.tar.gz
###
##############################################################################
##############################################################################
install for i386
* installing *source* package 'CGHcall' ...
** R
** data
** inst
** byte-compile and prepare package for lazy loading
** help
*** installing help indices
converting help for package 'CGHcall'
finding HTML links ... done
CGHcall-package html
CGHcall html
finding level-2 HTML links ... done
ExpandCGHcall html
Wilting html
normalize html
postsegnormalize html
preprocess html
segmentData html
** building package indices
** installing vignettes
** testing if installed package can be loaded
In R CMD INSTALL
install for x64
* installing *source* package 'CGHcall' ...
** testing if installed package can be loaded
* MD5 sums
packaged installation of 'CGHcall' as CGHcall_2.42.0.zip
* DONE (CGHcall)
In R CMD INSTALL
In R CMD INSTALL