| Back to Multiple platform build/check report for BioC 3.7 | 
 | 
This page was generated on 2018-10-17 08:34:52 -0400 (Wed, 17 Oct 2018).
| Package 212/1561 | Hostname | OS / Arch | INSTALL | BUILD | CHECK | BUILD BIN | ||||||
| CGEN 3.16.0 William Wheeler 
 | malbec2 | Linux (Ubuntu 16.04.1 LTS) / x86_64 | OK | OK | OK |  | ||||||
| tokay2 | Windows Server 2012 R2 Standard / x64 | OK | [ OK ] | OK | OK |  | ||||||
| merida2 | OS X 10.11.6 El Capitan / x86_64 | OK | OK | OK | OK |  | 
| Package: CGEN | 
| Version: 3.16.0 | 
| Command: chmod a+r CGEN -R && C:\Users\biocbuild\bbs-3.7-bioc\R\bin\R.exe CMD build --keep-empty-dirs --no-resave-data CGEN | 
| StartedAt: 2018-10-16 21:20:58 -0400 (Tue, 16 Oct 2018) | 
| EndedAt: 2018-10-16 21:22:12 -0400 (Tue, 16 Oct 2018) | 
| EllapsedTime: 73.5 seconds | 
| RetCode: 0 | 
| Status: OK | 
| PackageFile: CGEN_3.16.0.tar.gz | 
| PackageFileSize: 851.8 KiB | 
##############################################################################
##############################################################################
###
### Running command:
###
###   chmod a+r CGEN -R && C:\Users\biocbuild\bbs-3.7-bioc\R\bin\R.exe CMD build --keep-empty-dirs --no-resave-data CGEN
###
##############################################################################
##############################################################################
* checking for file 'CGEN/DESCRIPTION' ... OK
* preparing 'CGEN':
* checking DESCRIPTION meta-information ... OK
* cleaning src
* installing the package to build vignettes
* creating vignettes ... OK
Warning: 'inst/doc' file
    'vignette_GxE.R'
  ignored as vignettes have been rebuilt.
  Run R CMD build with --no-build-vignettes to prevent rebuilding.
* cleaning src
* checking for LF line-endings in source and make files and shell scripts
* checking for empty or unneeded directories
* looking to see if a 'data/datalist' file should be added
* building 'CGEN_3.16.0.tar.gz'