| Back to Multiple platform build/check report for BioC 3.7 |
|
This page was generated on 2018-10-17 08:30:32 -0400 (Wed, 17 Oct 2018).
| Package 209/1561 | Hostname | OS / Arch | INSTALL | BUILD | CHECK | BUILD BIN | ||||||
| CEMiTool 1.4.2 Helder Nakaya
| malbec2 | Linux (Ubuntu 16.04.1 LTS) / x86_64 | OK | OK | [ OK ] | |||||||
| tokay2 | Windows Server 2012 R2 Standard / x64 | OK | OK | OK | OK | |||||||
| merida2 | OS X 10.11.6 El Capitan / x86_64 | OK | OK | OK | OK |
| Package: CEMiTool |
| Version: 1.4.2 |
| Command: /home/biocbuild/bbs-3.7-bioc/R/bin/R CMD check --install=check:CEMiTool.install-out.txt --library=/home/biocbuild/bbs-3.7-bioc/R/library --no-vignettes --timings CEMiTool_1.4.2.tar.gz |
| StartedAt: 2018-10-15 23:04:17 -0400 (Mon, 15 Oct 2018) |
| EndedAt: 2018-10-15 23:07:50 -0400 (Mon, 15 Oct 2018) |
| EllapsedTime: 213.3 seconds |
| RetCode: 0 |
| Status: OK |
| CheckDir: CEMiTool.Rcheck |
| Warnings: 0 |
##############################################################################
##############################################################################
###
### Running command:
###
### /home/biocbuild/bbs-3.7-bioc/R/bin/R CMD check --install=check:CEMiTool.install-out.txt --library=/home/biocbuild/bbs-3.7-bioc/R/library --no-vignettes --timings CEMiTool_1.4.2.tar.gz
###
##############################################################################
##############################################################################
* using log directory ‘/home/biocbuild/bbs-3.7-bioc/meat/CEMiTool.Rcheck’
* using R version 3.5.1 Patched (2018-07-12 r74967)
* using platform: x86_64-pc-linux-gnu (64-bit)
* using session charset: UTF-8
* using option ‘--no-vignettes’
* checking for file ‘CEMiTool/DESCRIPTION’ ... OK
* this is package ‘CEMiTool’ version ‘1.4.2’
* package encoding: UTF-8
* checking package namespace information ... OK
* checking package dependencies ... OK
* checking if this is a source package ... OK
* checking if there is a namespace ... OK
* checking for hidden files and directories ... OK
* checking for portable file names ... OK
* checking for sufficient/correct file permissions ... OK
* checking whether package ‘CEMiTool’ can be installed ... OK
* checking installed package size ... NOTE
installed size is 6.6Mb
sub-directories of 1Mb or more:
data 3.1Mb
extdata 2.8Mb
* checking package directory ... OK
* checking ‘build’ directory ... OK
* checking DESCRIPTION meta-information ... OK
* checking top-level files ... OK
* checking for left-over files ... OK
* checking index information ... OK
* checking package subdirectories ... OK
* checking R files for non-ASCII characters ... OK
* checking R files for syntax errors ... OK
* checking whether the package can be loaded ... OK
* checking whether the package can be loaded with stated dependencies ... OK
* checking whether the package can be unloaded cleanly ... OK
* checking whether the namespace can be loaded with stated dependencies ... OK
* checking whether the namespace can be unloaded cleanly ... OK
* checking dependencies in R code ... OK
* checking S3 generic/method consistency ... OK
* checking replacement functions ... OK
* checking foreign function calls ... OK
* checking R code for possible problems ... NOTE
plot_interaction: no visible binding for global variable ‘cem’
filter_expr,CEMiTool: no visible global function definition for ‘var’
get_hubs,CEMiTool : <anonymous>: no visible global function definition
for ‘head’
get_merged_mods,CEMiTool: no visible global function definition for
‘hclust’
get_merged_mods,CEMiTool: no visible global function definition for
‘as.dist’
get_mods,CEMiTool: no visible global function definition for ‘hclust’
get_mods,CEMiTool: no visible global function definition for ‘as.dist’
get_phi,CEMiTool: no visible global function definition for ‘tail’
get_phi,CEMiTool: no visible global function definition for ‘head’
plot_gsea,CEMiTool: no visible global function definition for ‘hclust’
plot_gsea,CEMiTool: no visible global function definition for ‘dist’
plot_mean_var,CEMiTool: no visible binding for global variable ‘var’
plot_mean_var,CEMiTool: no visible binding for global variable ‘Mean’
plot_mean_var,CEMiTool: no visible binding for global variable
‘Variance’
plot_mean_var,CEMiTool: no visible binding for global variable
‘..eq.label..’
plot_mean_var,CEMiTool: no visible binding for global variable
‘..rr.label..’
plot_ora,CEMiTool : <anonymous>: no visible global function definition
for ‘head’
plot_qq,CEMiTool: no visible binding for global variable ‘data’
plot_sample_tree,CEMiTool: no visible global function definition for
‘hclust’
plot_sample_tree,CEMiTool: no visible global function definition for
‘dist’
plot_sample_tree,CEMiTool: no visible global function definition for
‘dev.off’
save_plots,CEMiTool : <anonymous>: no visible global function
definition for ‘dev.off’
save_plots,CEMiTool: no visible global function definition for
‘dev.off’
Undefined global functions or variables:
..eq.label.. ..rr.label.. Mean Variance as.dist cem data dev.off dist
hclust head tail var
Consider adding
importFrom("grDevices", "dev.off")
importFrom("stats", "as.dist", "dist", "hclust", "var")
importFrom("utils", "data", "head", "tail")
to your NAMESPACE file.
* checking Rd files ... OK
* checking Rd metadata ... OK
* checking Rd cross-references ... OK
* checking for missing documentation entries ... OK
* checking for code/documentation mismatches ... OK
* checking Rd \usage sections ... OK
* checking Rd contents ... OK
* checking for unstated dependencies in examples ... OK
* checking contents of ‘data’ directory ... OK
* checking data for non-ASCII characters ... OK
* checking data for ASCII and uncompressed saves ... OK
* checking files in ‘vignettes’ ... OK
* checking examples ... OK
Examples with CPU or elapsed time > 5s
user system elapsed
ora_data 7.436 0.048 7.489
plot_ora 7.420 0.000 7.424
plot_interactions 7.320 0.076 7.404
mod_ora 6.984 0.052 7.094
* checking for unstated dependencies in ‘tests’ ... OK
* checking tests ...
Running ‘testthat.R’
OK
* checking for unstated dependencies in vignettes ... OK
* checking package vignettes in ‘inst/doc’ ... OK
* checking running R code from vignettes ... SKIPPED
* checking re-building of vignette outputs ... SKIPPED
* checking PDF version of manual ... OK
* DONE
Status: 2 NOTEs
See
‘/home/biocbuild/bbs-3.7-bioc/meat/CEMiTool.Rcheck/00check.log’
for details.
CEMiTool.Rcheck/00install.out
############################################################################## ############################################################################## ### ### Running command: ### ### /home/biocbuild/bbs-3.7-bioc/R/bin/R CMD INSTALL CEMiTool ### ############################################################################## ############################################################################## * installing to library ‘/home/biocbuild/bbs-3.7-bioc/R/library’ * installing *source* package ‘CEMiTool’ ... ** R ** data *** moving datasets to lazyload DB ** exec ** inst ** byte-compile and prepare package for lazy loading ** help *** installing help indices ** building package indices ** installing vignettes ** testing if installed package can be loaded * DONE (CEMiTool)
CEMiTool.Rcheck/tests/testthat.Rout
R version 3.5.1 Patched (2018-07-12 r74967) -- "Feather Spray"
Copyright (C) 2018 The R Foundation for Statistical Computing
Platform: x86_64-pc-linux-gnu (64-bit)
R is free software and comes with ABSOLUTELY NO WARRANTY.
You are welcome to redistribute it under certain conditions.
Type 'license()' or 'licence()' for distribution details.
R is a collaborative project with many contributors.
Type 'contributors()' for more information and
'citation()' on how to cite R or R packages in publications.
Type 'demo()' for some demos, 'help()' for on-line help, or
'help.start()' for an HTML browser interface to help.
Type 'q()' to quit R.
> library(testthat)
> library(CEMiTool)
> test_check('CEMiTool')
══ testthat results ═══════════════════════════════════════════════════════════
OK: 86 SKIPPED: 0 FAILED: 0
>
> proc.time()
user system elapsed
31.504 0.876 32.403
CEMiTool.Rcheck/CEMiTool-Ex.timings
| name | user | system | elapsed | |
| CEMiTool-class | 0.020 | 0.004 | 0.023 | |
| adj_data | 0.252 | 0.000 | 0.255 | |
| cem | 0.024 | 0.000 | 0.026 | |
| cem_overlap | 0.004 | 0.000 | 0.001 | |
| cemitool | 0.000 | 0.000 | 0.001 | |
| expr0 | 0.004 | 0.000 | 0.001 | |
| expr_data | 0.032 | 0.000 | 0.034 | |
| filter_expr | 0.660 | 0.000 | 0.662 | |
| find_modules | 3.492 | 0.004 | 3.498 | |
| fit_data | 3.48 | 0.00 | 3.48 | |
| generate_report | 0.000 | 0.000 | 0.001 | |
| geom_qq | 0 | 0 | 0 | |
| get_adj | 0.116 | 0.000 | 0.118 | |
| get_beta_data | 1.636 | 0.012 | 1.647 | |
| get_cemitool_r2_beta | 3.388 | 0.000 | 3.390 | |
| get_connectivity | 3.440 | 0.000 | 3.442 | |
| get_hubs | 0.024 | 0.000 | 0.022 | |
| get_merged_mods | 1.932 | 0.000 | 1.933 | |
| get_mods | 0.564 | 0.000 | 0.563 | |
| get_phi | 3.524 | 0.008 | 3.537 | |
| gsea_data | 2.496 | 0.108 | 2.626 | |
| interactions_data | 0.284 | 0.008 | 0.294 | |
| mod_colors | 0.020 | 0.004 | 0.022 | |
| mod_gsea | 2.468 | 0.004 | 2.472 | |
| mod_names | 0.02 | 0.00 | 0.02 | |
| mod_ora | 6.984 | 0.052 | 7.094 | |
| mod_summary | 0.056 | 0.000 | 0.058 | |
| module_genes | 0.028 | 0.000 | 0.026 | |
| new_cem | 0.020 | 0.000 | 0.018 | |
| nmodules | 0.036 | 0.000 | 0.035 | |
| ora_data | 7.436 | 0.048 | 7.489 | |
| plot_beta_r2 | 0.196 | 0.004 | 0.198 | |
| plot_gsea | 2.508 | 0.000 | 2.511 | |
| plot_hist | 0.464 | 0.012 | 0.477 | |
| plot_interactions | 7.320 | 0.076 | 7.404 | |
| plot_mean_k | 0.196 | 0.000 | 0.198 | |
| plot_mean_var | 0.448 | 0.004 | 0.450 | |
| plot_ora | 7.420 | 0.000 | 7.424 | |
| plot_profile | 1.884 | 0.000 | 1.887 | |
| plot_qq | 2.204 | 0.036 | 2.240 | |
| plot_sample_tree | 0.560 | 0.008 | 0.570 | |
| read_gmt | 0.508 | 0.000 | 0.509 | |
| sample_annot | 0.004 | 0.000 | 0.003 | |
| sample_annotation | 0.020 | 0.000 | 0.018 | |
| save_plots | 0.044 | 0.000 | 0.045 | |
| show_plot | 0.168 | 0.000 | 0.166 | |
| write_files | 0 | 0 | 0 | |