| Back to Multiple platform build/check report for BioC 3.7 |
|
This page was generated on 2018-10-17 08:43:49 -0400 (Wed, 17 Oct 2018).
| Package 191/1561 | Hostname | OS / Arch | INSTALL | BUILD | CHECK | BUILD BIN | ||||||
| CATALYST 1.4.2 Helena L. Crowell
| malbec2 | Linux (Ubuntu 16.04.1 LTS) / x86_64 | OK | OK | OK | |||||||
| tokay2 | Windows Server 2012 R2 Standard / x64 | OK | OK | OK | [ OK ] | |||||||
| merida2 | OS X 10.11.6 El Capitan / x86_64 | OK | OK | OK | OK |
| Package: CATALYST |
| Version: 1.4.2 |
| Command: rm -rf CATALYST.buildbin-libdir && mkdir CATALYST.buildbin-libdir && C:\Users\biocbuild\bbs-3.7-bioc\R\bin\R.exe CMD INSTALL --merge-multiarch --build --library=CATALYST.buildbin-libdir CATALYST_1.4.2.tar.gz |
| StartedAt: 2018-10-17 06:07:27 -0400 (Wed, 17 Oct 2018) |
| EndedAt: 2018-10-17 06:08:11 -0400 (Wed, 17 Oct 2018) |
| EllapsedTime: 43.9 seconds |
| RetCode: 0 |
| Status: OK |
| PackageFile: CATALYST_1.4.2.zip |
| PackageFileSize: 5.446 MiB |
##############################################################################
##############################################################################
###
### Running command:
###
### rm -rf CATALYST.buildbin-libdir && mkdir CATALYST.buildbin-libdir && C:\Users\biocbuild\bbs-3.7-bioc\R\bin\R.exe CMD INSTALL --merge-multiarch --build --library=CATALYST.buildbin-libdir CATALYST_1.4.2.tar.gz
###
##############################################################################
##############################################################################
install for i386
* installing *source* package 'CATALYST' ...
** R
** data
*** moving datasets to lazyload DB
** inst
** byte-compile and prepare package for lazy loading
** help
*** installing help indices
converting help for package 'CATALYST'
finding HTML links ... done
adaptSpillmat html
applyCutoffs html
assignPrelim html
finding level-2 HTML links ... done
cluster html
compCytof html
computeSpillmat html
concatFCS html
daFrame-class html
daFrame-methods html
data html
dbFrame-class html
dbFrame-methods html
estCutoffs html
extractClusters html
guessPanel html
launchGUI html
mergeClusters html
normCytof html
outFCS html
outFrames html
plotAbundances html
plotClusterHeatmap html
plotCodes html
plotCounts html
plotDiffHeatmap html
plotEvents html
plotExprHeatmap html
plotExprs html
plotMDS html
plotMahal html
plotMedExprs html
plotNRS html
plotSNE html
plotSpillmat html
plotYields html
tSNE html
** building package indices
** installing vignettes
** testing if installed package can be loaded
In R CMD INSTALL
install for x64
* installing *source* package 'CATALYST' ...
** testing if installed package can be loaded
* MD5 sums
packaged installation of 'CATALYST' as CATALYST_1.4.2.zip
* DONE (CATALYST)
In R CMD INSTALL
In R CMD INSTALL