| Back to Multiple platform build/check report for BioC 3.7 |
|
This page was generated on 2018-10-17 08:21:58 -0400 (Wed, 17 Oct 2018).
| Package 180/1561 | Hostname | OS / Arch | INSTALL | BUILD | CHECK | BUILD BIN | ||||||
| CALIB 1.46.0 Hui Zhao
| malbec2 | Linux (Ubuntu 16.04.1 LTS) / x86_64 | [ OK ] | OK | OK | |||||||
| tokay2 | Windows Server 2012 R2 Standard / x64 | OK | OK | OK | OK | |||||||
| merida2 | OS X 10.11.6 El Capitan / x86_64 | OK | OK | WARNINGS | OK |
| Package: CALIB |
| Version: 1.46.0 |
| Command: /home/biocbuild/bbs-3.7-bioc/R/bin/R CMD INSTALL CALIB |
| StartedAt: 2018-10-15 17:58:12 -0400 (Mon, 15 Oct 2018) |
| EndedAt: 2018-10-15 17:58:27 -0400 (Mon, 15 Oct 2018) |
| EllapsedTime: 14.8 seconds |
| RetCode: 0 |
| Status: OK |
##############################################################################
##############################################################################
###
### Running command:
###
### /home/biocbuild/bbs-3.7-bioc/R/bin/R CMD INSTALL CALIB
###
##############################################################################
##############################################################################
* installing to library ‘/home/biocbuild/bbs-3.7-bioc/R/library’
* installing *source* package ‘CALIB’ ...
** libs
g++ -I"/home/biocbuild/bbs-3.7-bioc/R/include" -DNDEBUG -I/usr/local/include -fpic -g -O2 -Wall -c Design.cpp -o Design.o
g++ -I"/home/biocbuild/bbs-3.7-bioc/R/include" -DNDEBUG -I/usr/local/include -fpic -g -O2 -Wall -c Estimation.cpp -o Estimation.o
Estimation.cpp: In function ‘SEXPREC* estimation(SEXP, SEXP, SEXP, SEXP, SEXP, SEXP, SEXP, SEXP)’:
Estimation.cpp:147:78: warning: deprecated conversion from string constant to ‘char*’ [-Wwrite-strings]
char *name[8] = {"MuS","Ka","P1","P2","SigmaA","SigmaM","SigmaS","SpotError"};
^
Estimation.cpp:147:78: warning: deprecated conversion from string constant to ‘char*’ [-Wwrite-strings]
Estimation.cpp:147:78: warning: deprecated conversion from string constant to ‘char*’ [-Wwrite-strings]
Estimation.cpp:147:78: warning: deprecated conversion from string constant to ‘char*’ [-Wwrite-strings]
Estimation.cpp:147:78: warning: deprecated conversion from string constant to ‘char*’ [-Wwrite-strings]
Estimation.cpp:147:78: warning: deprecated conversion from string constant to ‘char*’ [-Wwrite-strings]
Estimation.cpp:147:78: warning: deprecated conversion from string constant to ‘char*’ [-Wwrite-strings]
Estimation.cpp:147:78: warning: deprecated conversion from string constant to ‘char*’ [-Wwrite-strings]
g++ -I"/home/biocbuild/bbs-3.7-bioc/R/include" -DNDEBUG -I/usr/local/include -fpic -g -O2 -Wall -c NormalizedData.cpp -o NormalizedData.o
g++ -I"/home/biocbuild/bbs-3.7-bioc/R/include" -DNDEBUG -I/usr/local/include -fpic -g -O2 -Wall -c ParameterofOneArray.cpp -o ParameterofOneArray.o
g++ -I"/home/biocbuild/bbs-3.7-bioc/R/include" -DNDEBUG -I/usr/local/include -fpic -g -O2 -Wall -c RawDataofOneArray.cpp -o RawDataofOneArray.o
g++ -I"/home/biocbuild/bbs-3.7-bioc/R/include" -DNDEBUG -I/usr/local/include -fpic -g -O2 -Wall -c SpikeofOneArray.cpp -o SpikeofOneArray.o
g++ -shared -L/home/biocbuild/bbs-3.7-bioc/R/lib -L/usr/local/lib -o CALIB.so Design.o Estimation.o NormalizedData.o ParameterofOneArray.o RawDataofOneArray.o SpikeofOneArray.o -L/home/biocbuild/bbs-3.7-bioc/R/lib -lR
installing to /home/biocbuild/bbs-3.7-bioc/R/library/CALIB/libs
** R
** data
** inst
** byte-compile and prepare package for lazy loading
** help
*** installing help indices
** building package indices
** installing vignettes
** testing if installed package can be loaded
* DONE (CALIB)