| Back to Multiple platform build/check report for BioC 3.7 |
|
This page was generated on 2018-10-17 08:52:37 -0400 (Wed, 17 Oct 2018).
| Package 177/1561 | Hostname | OS / Arch | INSTALL | BUILD | CHECK | BUILD BIN | ||||||
| CAFE 1.16.0 Sander Bollen
| malbec2 | Linux (Ubuntu 16.04.1 LTS) / x86_64 | OK | OK | OK | |||||||
| tokay2 | Windows Server 2012 R2 Standard / x64 | OK | OK | OK | OK | |||||||
| merida2 | OS X 10.11.6 El Capitan / x86_64 | OK | OK | OK | [ OK ] |
| Package: CAFE |
| Version: 1.16.0 |
| Command: rm -rf CAFE.buildbin-libdir && mkdir CAFE.buildbin-libdir && /Users/biocbuild/BBS/utils/build-universal.sh CAFE_1.16.0.tar.gz /Library/Frameworks/R.framework/Versions/Current/Resources/bin/R CAFE.buildbin-libdir |
| StartedAt: 2018-10-17 01:01:30 -0400 (Wed, 17 Oct 2018) |
| EndedAt: 2018-10-17 01:02:20 -0400 (Wed, 17 Oct 2018) |
| EllapsedTime: 49.2 seconds |
| RetCode: 0 |
| Status: OK |
| PackageFile: CAFE_1.16.0.tgz |
| PackageFileSize: 4.201 MiB |
############################################################################## ############################################################################## ### ### Running command: ### ### rm -rf CAFE.buildbin-libdir && mkdir CAFE.buildbin-libdir && /Users/biocbuild/BBS/utils/build-universal.sh CAFE_1.16.0.tar.gz /Library/Frameworks/R.framework/Versions/Current/Resources/bin/R CAFE.buildbin-libdir ### ############################################################################## ############################################################################## >>>>>>> >>>>>>> INSTALLATION WITH 'R CMD INSTALL --preclean --no-multiarch --library=CAFE.buildbin-libdir CAFE_1.16.0.tar.gz' >>>>>>> * installing *source* package ‘CAFE’ ... ** R ** data ** inst ** byte-compile and prepare package for lazy loading ** help *** installing help indices ** building package indices ** installing vignettes ** testing if installed package can be loaded * DONE (CAFE)