| Back to Multiple platform build/check report for BioC 3.7 |
|
This page was generated on 2018-10-17 08:44:19 -0400 (Wed, 17 Oct 2018).
| Package 134/1561 | Hostname | OS / Arch | INSTALL | BUILD | CHECK | BUILD BIN | ||||||
| BiocSklearn 1.2.0 VJ Carey
| malbec2 | Linux (Ubuntu 16.04.1 LTS) / x86_64 | OK | OK | OK | |||||||
| tokay2 | Windows Server 2012 R2 Standard / x64 | OK | OK | OK | [ OK ] | |||||||
| merida2 | OS X 10.11.6 El Capitan / x86_64 | OK | OK | OK | OK |
| Package: BiocSklearn |
| Version: 1.2.0 |
| Command: rm -rf BiocSklearn.buildbin-libdir && mkdir BiocSklearn.buildbin-libdir && C:\Users\biocbuild\bbs-3.7-bioc\R\bin\R.exe --arch x64 CMD INSTALL --no-multiarch --build --library=BiocSklearn.buildbin-libdir BiocSklearn_1.2.0.tar.gz |
| StartedAt: 2018-10-17 06:05:04 -0400 (Wed, 17 Oct 2018) |
| EndedAt: 2018-10-17 06:05:43 -0400 (Wed, 17 Oct 2018) |
| EllapsedTime: 38.6 seconds |
| RetCode: 0 |
| Status: OK |
| PackageFile: BiocSklearn_1.2.0.zip |
| PackageFileSize: 35.52 MiB |
##############################################################################
##############################################################################
###
### Running command:
###
### rm -rf BiocSklearn.buildbin-libdir && mkdir BiocSklearn.buildbin-libdir && C:\Users\biocbuild\bbs-3.7-bioc\R\bin\R.exe --arch x64 CMD INSTALL --no-multiarch --build --library=BiocSklearn.buildbin-libdir BiocSklearn_1.2.0.tar.gz
###
##############################################################################
##############################################################################
* installing *source* package 'BiocSklearn' ...
** R
** inst
** byte-compile and prepare package for lazy loading
** help
*** installing help indices
converting help for package 'BiocSklearn'
finding HTML links ... done
H5matref html
SkDecomp-class html
SklearnEls html
h5mat html
skIncrPCA html
skIncrPPCA html
skPCA html
skPartialPCA_step html
** building package indices
** installing vignettes
** testing if installed package can be loaded
* MD5 sums
packaged installation of 'BiocSklearn' as BiocSklearn_1.2.0.zip
* DONE (BiocSklearn)
In R CMD INSTALL