| Back to Multiple platform build/check report for BioC 3.7 |
|
This page was generated on 2018-10-17 08:49:16 -0400 (Wed, 17 Oct 2018).
| Package 130/1561 | Hostname | OS / Arch | INSTALL | BUILD | CHECK | BUILD BIN | ||||||
| BiocInstaller 1.30.0 Bioconductor Package Maintainer
| malbec2 | Linux (Ubuntu 16.04.1 LTS) / x86_64 | OK | OK | WARNINGS | |||||||
| tokay2 | Windows Server 2012 R2 Standard / x64 | OK | OK | WARNINGS | OK | |||||||
| merida2 | OS X 10.11.6 El Capitan / x86_64 | OK | OK | WARNINGS | [ OK ] |
| Package: BiocInstaller |
| Version: 1.30.0 |
| Command: rm -rf BiocInstaller.buildbin-libdir && mkdir BiocInstaller.buildbin-libdir && /Users/biocbuild/BBS/utils/build-universal.sh BiocInstaller_1.30.0.tar.gz /Library/Frameworks/R.framework/Versions/Current/Resources/bin/R BiocInstaller.buildbin-libdir |
| StartedAt: 2018-10-17 00:58:34 -0400 (Wed, 17 Oct 2018) |
| EndedAt: 2018-10-17 00:59:38 -0400 (Wed, 17 Oct 2018) |
| EllapsedTime: 64.0 seconds |
| RetCode: 0 |
| Status: OK |
| PackageFile: BiocInstaller_1.30.0.tgz |
| PackageFileSize: 82.79 KiB |
############################################################################## ############################################################################## ### ### Running command: ### ### rm -rf BiocInstaller.buildbin-libdir && mkdir BiocInstaller.buildbin-libdir && /Users/biocbuild/BBS/utils/build-universal.sh BiocInstaller_1.30.0.tar.gz /Library/Frameworks/R.framework/Versions/Current/Resources/bin/R BiocInstaller.buildbin-libdir ### ############################################################################## ############################################################################## >>>>>>> >>>>>>> INSTALLATION WITH 'R CMD INSTALL --preclean --no-multiarch --library=BiocInstaller.buildbin-libdir BiocInstaller_1.30.0.tar.gz' >>>>>>> * installing *source* package ‘BiocInstaller’ ... ** R ** inst ** byte-compile and prepare package for lazy loading ** help *** installing help indices ** building package indices ** testing if installed package can be loaded Bioconductor version 3.7 (BiocInstaller 1.30.0), ?biocLite for help * DONE (BiocInstaller)