| Back to Multiple platform build/check report for BioC 3.7 |
|
This page was generated on 2018-10-17 08:38:16 -0400 (Wed, 17 Oct 2018).
| Package 94/1561 | Hostname | OS / Arch | INSTALL | BUILD | CHECK | BUILD BIN | ||||||
| Basic4Cseq 1.16.0 Carolin Walter
| malbec2 | Linux (Ubuntu 16.04.1 LTS) / x86_64 | OK | OK | OK | |||||||
| tokay2 | Windows Server 2012 R2 Standard / x64 | OK | OK | OK | [ OK ] | |||||||
| merida2 | OS X 10.11.6 El Capitan / x86_64 | OK | OK | OK | OK |
| Package: Basic4Cseq |
| Version: 1.16.0 |
| Command: rm -rf Basic4Cseq.buildbin-libdir && mkdir Basic4Cseq.buildbin-libdir && C:\Users\biocbuild\bbs-3.7-bioc\R\bin\R.exe CMD INSTALL --merge-multiarch --build --library=Basic4Cseq.buildbin-libdir Basic4Cseq_1.16.0.tar.gz |
| StartedAt: 2018-10-17 06:03:38 -0400 (Wed, 17 Oct 2018) |
| EndedAt: 2018-10-17 06:04:13 -0400 (Wed, 17 Oct 2018) |
| EllapsedTime: 34.9 seconds |
| RetCode: 0 |
| Status: OK |
| PackageFile: Basic4Cseq_1.16.0.zip |
| PackageFileSize: 777.4 KiB |
##############################################################################
##############################################################################
###
### Running command:
###
### rm -rf Basic4Cseq.buildbin-libdir && mkdir Basic4Cseq.buildbin-libdir && C:\Users\biocbuild\bbs-3.7-bioc\R\bin\R.exe CMD INSTALL --merge-multiarch --build --library=Basic4Cseq.buildbin-libdir Basic4Cseq_1.16.0.tar.gz
###
##############################################################################
##############################################################################
install for i386
* installing *source* package 'Basic4Cseq' ...
** R
** data
** inst
** byte-compile and prepare package for lazy loading
** help
*** installing help indices
converting help for package 'Basic4Cseq'
finding HTML links ... done
Data4Cseq-class html
Data4Cseq html
checkRestrictionEnzymeSequence html
chooseNearCisFragments html
createVirtualFragmentLibrary html
drawDigestionFragmentHistogram html
drawHeatmap html
exportVisualizationFragmentData html
getReadDistribution html
giveEnzymeSequence html
importVisualizationFragmentData html
liverData html
liverDataRaw html
normalizeFragmentData html
plotTransInteractions html
prepare4CseqData html
printBEDFragmentLibrary html
printWigFile html
readPointsOfInterestFile html
readsToFragments html
simulateDigestion html
visualizeViewpoint html
** building package indices
** installing vignettes
** testing if installed package can be loaded
In R CMD INSTALL
install for x64
* installing *source* package 'Basic4Cseq' ...
** testing if installed package can be loaded
* MD5 sums
packaged installation of 'Basic4Cseq' as Basic4Cseq_1.16.0.zip
* DONE (Basic4Cseq)
In R CMD INSTALL
In R CMD INSTALL