| Back to Multiple platform build/check report for BioC 3.7 |
|
This page was generated on 2018-10-17 08:57:31 -0400 (Wed, 17 Oct 2018).
| Package 174/1561 | Hostname | OS / Arch | INSTALL | BUILD | CHECK | BUILD BIN | ||||||
| BUMHMM 1.4.0 Alina Selega
| malbec2 | Linux (Ubuntu 16.04.1 LTS) / x86_64 | OK | OK | OK | |||||||
| tokay2 | Windows Server 2012 R2 Standard / x64 | OK | OK | WARNINGS | OK | |||||||
| merida2 | OS X 10.11.6 El Capitan / x86_64 | OK | OK | OK | [ OK ] |
| Package: BUMHMM |
| Version: 1.4.0 |
| Command: rm -rf BUMHMM.buildbin-libdir && mkdir BUMHMM.buildbin-libdir && /Users/biocbuild/BBS/utils/build-universal.sh BUMHMM_1.4.0.tar.gz /Library/Frameworks/R.framework/Versions/Current/Resources/bin/R BUMHMM.buildbin-libdir |
| StartedAt: 2018-10-17 01:01:21 -0400 (Wed, 17 Oct 2018) |
| EndedAt: 2018-10-17 01:02:07 -0400 (Wed, 17 Oct 2018) |
| EllapsedTime: 46.1 seconds |
| RetCode: 0 |
| Status: OK |
| PackageFile: BUMHMM_1.4.0.tgz |
| PackageFileSize: 827.9 KiB |
############################################################################## ############################################################################## ### ### Running command: ### ### rm -rf BUMHMM.buildbin-libdir && mkdir BUMHMM.buildbin-libdir && /Users/biocbuild/BBS/utils/build-universal.sh BUMHMM_1.4.0.tar.gz /Library/Frameworks/R.framework/Versions/Current/Resources/bin/R BUMHMM.buildbin-libdir ### ############################################################################## ############################################################################## >>>>>>> >>>>>>> INSTALLATION WITH 'R CMD INSTALL --preclean --no-multiarch --library=BUMHMM.buildbin-libdir BUMHMM_1.4.0.tar.gz' >>>>>>> * installing *source* package ‘BUMHMM’ ... ** R ** data *** moving datasets to lazyload DB ** inst ** byte-compile and prepare package for lazy loading ** help *** installing help indices ** building package indices ** installing vignettes ** testing if installed package can be loaded * DONE (BUMHMM)