| Back to Multiple platform build/check report for BioC 3.7 | 
 | 
This page was generated on 2018-10-17 08:37:07 -0400 (Wed, 17 Oct 2018).
| Package 55/1561 | Hostname | OS / Arch | INSTALL | BUILD | CHECK | BUILD BIN | ||||||
| AnnotationHub 2.12.1 Bioconductor Package Maintainer 
 | malbec2 | Linux (Ubuntu 16.04.1 LTS) / x86_64 | OK | OK | WARNINGS |  | ||||||
| tokay2 | Windows Server 2012 R2 Standard / x64 | OK | OK | WARNINGS | [ OK ] |  | ||||||
| merida2 | OS X 10.11.6 El Capitan / x86_64 | OK | OK | WARNINGS | OK |  | 
| Package: AnnotationHub | 
| Version: 2.12.1 | 
| Command: rm -rf AnnotationHub.buildbin-libdir && mkdir AnnotationHub.buildbin-libdir && C:\Users\biocbuild\bbs-3.7-bioc\R\bin\R.exe CMD INSTALL --merge-multiarch --build --library=AnnotationHub.buildbin-libdir AnnotationHub_2.12.1.tar.gz | 
| StartedAt: 2018-10-17 06:01:49 -0400 (Wed, 17 Oct 2018) | 
| EndedAt: 2018-10-17 06:02:17 -0400 (Wed, 17 Oct 2018) | 
| EllapsedTime: 27.7 seconds | 
| RetCode: 0 | 
| Status: OK | 
| PackageFile: AnnotationHub_2.12.1.zip | 
| PackageFileSize: 1.165 MiB | 
##############################################################################
##############################################################################
###
### Running command:
###
###   rm -rf AnnotationHub.buildbin-libdir && mkdir AnnotationHub.buildbin-libdir && C:\Users\biocbuild\bbs-3.7-bioc\R\bin\R.exe CMD INSTALL --merge-multiarch --build --library=AnnotationHub.buildbin-libdir AnnotationHub_2.12.1.tar.gz
###
##############################################################################
##############################################################################
install for i386
* installing *source* package 'AnnotationHub' ...
** R
** inst
** byte-compile and prepare package for lazy loading
** help
*** installing help indices
  converting help for package 'AnnotationHub'
    finding HTML links ... done
    AnnotationHub-class                     html  
    AnnotationHub-package                   html  
    AnnotationHubResource-class             html  
    getAnnotationHubOption                  html  
    listResources                           html  
** building package indices
** installing vignettes
** testing if installed package can be loaded
In R CMD INSTALL
install for x64
* installing *source* package 'AnnotationHub' ...
** testing if installed package can be loaded
* MD5 sums
packaged installation of 'AnnotationHub' as AnnotationHub_2.12.1.zip
* DONE (AnnotationHub)
In R CMD INSTALL
In R CMD INSTALL