| Back to Multiple platform build/check report for BioC 3.7 |
|
This page was generated on 2018-10-17 08:35:16 -0400 (Wed, 17 Oct 2018).
| Package 54/1561 | Hostname | OS / Arch | INSTALL | BUILD | CHECK | BUILD BIN | ||||||
| AnnotationFuncs 1.30.0 Stefan McKinnon Edwards
| malbec2 | Linux (Ubuntu 16.04.1 LTS) / x86_64 | OK | OK | OK | |||||||
| tokay2 | Windows Server 2012 R2 Standard / x64 | [ OK ] | OK | OK | OK | |||||||
| merida2 | OS X 10.11.6 El Capitan / x86_64 | OK | OK | OK | OK |
| Package: AnnotationFuncs |
| Version: 1.30.0 |
| Command: C:\cygwin\bin\curl.exe -O https://malbec2.bioconductor.org/BBS/3.7/bioc/src/contrib/AnnotationFuncs_1.30.0.tar.gz && rm -rf AnnotationFuncs.buildbin-libdir && mkdir AnnotationFuncs.buildbin-libdir && C:\Users\biocbuild\bbs-3.7-bioc\R\bin\R.exe CMD INSTALL --merge-multiarch --build --library=AnnotationFuncs.buildbin-libdir AnnotationFuncs_1.30.0.tar.gz && C:\Users\biocbuild\bbs-3.7-bioc\R\bin\R.exe CMD INSTALL AnnotationFuncs_1.30.0.zip && rm AnnotationFuncs_1.30.0.tar.gz AnnotationFuncs_1.30.0.zip |
| StartedAt: 2018-10-16 18:53:51 -0400 (Tue, 16 Oct 2018) |
| EndedAt: 2018-10-16 18:54:15 -0400 (Tue, 16 Oct 2018) |
| EllapsedTime: 24.5 seconds |
| RetCode: 0 |
| Status: OK |
##############################################################################
##############################################################################
###
### Running command:
###
### C:\cygwin\bin\curl.exe -O https://malbec2.bioconductor.org/BBS/3.7/bioc/src/contrib/AnnotationFuncs_1.30.0.tar.gz && rm -rf AnnotationFuncs.buildbin-libdir && mkdir AnnotationFuncs.buildbin-libdir && C:\Users\biocbuild\bbs-3.7-bioc\R\bin\R.exe CMD INSTALL --merge-multiarch --build --library=AnnotationFuncs.buildbin-libdir AnnotationFuncs_1.30.0.tar.gz && C:\Users\biocbuild\bbs-3.7-bioc\R\bin\R.exe CMD INSTALL AnnotationFuncs_1.30.0.zip && rm AnnotationFuncs_1.30.0.tar.gz AnnotationFuncs_1.30.0.zip
###
##############################################################################
##############################################################################
% Total % Received % Xferd Average Speed Time Time Time Current
Dload Upload Total Spent Left Speed
0 0 0 0 0 0 0 0 --:--:-- --:--:-- --:--:-- 0
100 22918 100 22918 0 0 377k 0 --:--:-- --:--:-- --:--:-- 422k
install for i386
* installing *source* package 'AnnotationFuncs' ...
** R
** inst
** byte-compile and prepare package for lazy loading
** help
*** installing help indices
converting help for package 'AnnotationFuncs'
finding HTML links ... done
AnnotationFuncs-package html
dbEscapeString2 html
getEvidenceCodes html
getOrthologs html
getTableName2 html
mapLists html
pickGO html
pickRef2 html
pickRefSeq html
removeNAs html
translate html
** building package indices
** installing vignettes
** testing if installed package can be loaded
In R CMD INSTALL
install for x64
* installing *source* package 'AnnotationFuncs' ...
** testing if installed package can be loaded
* MD5 sums
packaged installation of 'AnnotationFuncs' as AnnotationFuncs_1.30.0.zip
* DONE (AnnotationFuncs)
In R CMD INSTALL
In R CMD INSTALL
* installing to library 'C:/Users/biocbuild/bbs-3.7-bioc/R/library'
package 'AnnotationFuncs' successfully unpacked and MD5 sums checked
In R CMD INSTALL