| Back to Multiple platform build/check report for BioC 3.7 | 
  | 
This page was generated on 2018-10-17 08:50:35 -0400 (Wed, 17 Oct 2018).
| Package 53/1561 | Hostname | OS / Arch | INSTALL | BUILD | CHECK | BUILD BIN | ||||||
| AnnotationForge 1.22.2 Bioconductor Package Maintainer 
  | malbec2 | Linux (Ubuntu 16.04.1 LTS) / x86_64 | OK | OK | OK | |||||||
| tokay2 | Windows Server 2012 R2 Standard / x64 | OK | ERROR | skipped | skipped | |||||||
| merida2 | OS X 10.11.6 El Capitan / x86_64 | OK | OK | OK | [ OK ] | 
| Package: AnnotationForge | 
| Version: 1.22.2 | 
| Command: rm -rf AnnotationForge.buildbin-libdir && mkdir AnnotationForge.buildbin-libdir && /Users/biocbuild/BBS/utils/build-universal.sh AnnotationForge_1.22.2.tar.gz /Library/Frameworks/R.framework/Versions/Current/Resources/bin/R AnnotationForge.buildbin-libdir | 
| StartedAt: 2018-10-17 00:54:37 -0400 (Wed, 17 Oct 2018) | 
| EndedAt: 2018-10-17 00:55:25 -0400 (Wed, 17 Oct 2018) | 
| EllapsedTime: 48.2 seconds | 
| RetCode: 0 | 
| Status: OK | 
| PackageFile: AnnotationForge_1.22.2.tgz | 
| PackageFileSize: 4.053 MiB | 
############################################################################## ############################################################################## ### ### Running command: ### ### rm -rf AnnotationForge.buildbin-libdir && mkdir AnnotationForge.buildbin-libdir && /Users/biocbuild/BBS/utils/build-universal.sh AnnotationForge_1.22.2.tar.gz /Library/Frameworks/R.framework/Versions/Current/Resources/bin/R AnnotationForge.buildbin-libdir ### ############################################################################## ############################################################################## >>>>>>> >>>>>>> INSTALLATION WITH 'R CMD INSTALL --preclean --no-multiarch --library=AnnotationForge.buildbin-libdir AnnotationForge_1.22.2.tar.gz' >>>>>>> * installing *source* package ‘AnnotationForge’ ... ** R ** inst ** byte-compile and prepare package for lazy loading ** help *** installing help indices ** building package indices ** installing vignettes ** testing if installed package can be loaded * DONE (AnnotationForge)