| Back to Multiple platform build/check report for BioC 3.7 |
|
This page was generated on 2018-10-17 08:57:02 -0400 (Wed, 17 Oct 2018).
| Package 45/1561 | Hostname | OS / Arch | INSTALL | BUILD | CHECK | BUILD BIN | ||||||
| Anaquin 2.4.0 Ted Wong
| malbec2 | Linux (Ubuntu 16.04.1 LTS) / x86_64 | OK | OK | OK | |||||||
| tokay2 | Windows Server 2012 R2 Standard / x64 | OK | OK | OK | OK | |||||||
| merida2 | OS X 10.11.6 El Capitan / x86_64 | OK | OK | OK | [ OK ] |
| Package: Anaquin |
| Version: 2.4.0 |
| Command: rm -rf Anaquin.buildbin-libdir && mkdir Anaquin.buildbin-libdir && /Users/biocbuild/BBS/utils/build-universal.sh Anaquin_2.4.0.tar.gz /Library/Frameworks/R.framework/Versions/Current/Resources/bin/R Anaquin.buildbin-libdir |
| StartedAt: 2018-10-17 00:54:13 -0400 (Wed, 17 Oct 2018) |
| EndedAt: 2018-10-17 00:55:00 -0400 (Wed, 17 Oct 2018) |
| EllapsedTime: 46.4 seconds |
| RetCode: 0 |
| Status: OK |
| PackageFile: Anaquin_2.4.0.tgz |
| PackageFileSize: 435.9 KiB |
############################################################################## ############################################################################## ### ### Running command: ### ### rm -rf Anaquin.buildbin-libdir && mkdir Anaquin.buildbin-libdir && /Users/biocbuild/BBS/utils/build-universal.sh Anaquin_2.4.0.tar.gz /Library/Frameworks/R.framework/Versions/Current/Resources/bin/R Anaquin.buildbin-libdir ### ############################################################################## ############################################################################## >>>>>>> >>>>>>> INSTALLATION WITH 'R CMD INSTALL --preclean --no-multiarch --library=Anaquin.buildbin-libdir Anaquin_2.4.0.tar.gz' >>>>>>> * installing *source* package ‘Anaquin’ ... ** R ** data *** moving datasets to lazyload DB ** inst ** byte-compile and prepare package for lazy loading ** help *** installing help indices ** building package indices ** installing vignettes ** testing if installed package can be loaded * DONE (Anaquin)