| Back to Multiple platform build/check report for BioC 3.7 |
|
This page was generated on 2018-10-17 08:30:41 -0400 (Wed, 17 Oct 2018).
| Package 82/1561 | Hostname | OS / Arch | INSTALL | BUILD | CHECK | BUILD BIN | ||||||
| AUCell 1.2.4 Sara Aibar
| malbec2 | Linux (Ubuntu 16.04.1 LTS) / x86_64 | OK | [ OK ] | OK | |||||||
| tokay2 | Windows Server 2012 R2 Standard / x64 | OK | OK | OK | OK | |||||||
| merida2 | OS X 10.11.6 El Capitan / x86_64 | OK | OK | OK | OK |
| Package: AUCell |
| Version: 1.2.4 |
| Command: /home/biocbuild/bbs-3.7-bioc/R/bin/R CMD build --keep-empty-dirs --no-resave-data AUCell |
| StartedAt: 2018-10-15 21:45:42 -0400 (Mon, 15 Oct 2018) |
| EndedAt: 2018-10-15 21:47:31 -0400 (Mon, 15 Oct 2018) |
| EllapsedTime: 108.9 seconds |
| RetCode: 0 |
| Status: OK |
| PackageFile: AUCell_1.2.4.tar.gz |
| PackageFileSize: 1.686 MiB |
############################################################################## ############################################################################## ### ### Running command: ### ### /home/biocbuild/bbs-3.7-bioc/R/bin/R CMD build --keep-empty-dirs --no-resave-data AUCell ### ############################################################################## ############################################################################## * checking for file ‘AUCell/DESCRIPTION’ ... OK * preparing ‘AUCell’: * checking DESCRIPTION meta-information ... OK * installing the package to build vignettes * creating vignettes ... OK * checking for LF line-endings in source and make files and shell scripts * checking for empty or unneeded directories * building ‘AUCell_1.2.4.tar.gz’