| Back to Multiple platform build/check report for BioC 3.7 |
|
This page was generated on 2018-10-17 08:43:57 -0400 (Wed, 17 Oct 2018).
| Package 80/1561 | Hostname | OS / Arch | INSTALL | BUILD | CHECK | BUILD BIN | ||||||
| ATACseqQC 1.4.3 Jianhong Ou
| malbec2 | Linux (Ubuntu 16.04.1 LTS) / x86_64 | OK | OK | OK | |||||||
| tokay2 | Windows Server 2012 R2 Standard / x64 | OK | OK | OK | [ OK ] | |||||||
| merida2 | OS X 10.11.6 El Capitan / x86_64 | OK | OK | OK | OK |
| Package: ATACseqQC |
| Version: 1.4.3 |
| Command: rm -rf ATACseqQC.buildbin-libdir && mkdir ATACseqQC.buildbin-libdir && C:\Users\biocbuild\bbs-3.7-bioc\R\bin\R.exe CMD INSTALL --merge-multiarch --build --library=ATACseqQC.buildbin-libdir ATACseqQC_1.4.3.tar.gz |
| StartedAt: 2018-10-17 06:03:00 -0400 (Wed, 17 Oct 2018) |
| EndedAt: 2018-10-17 06:03:56 -0400 (Wed, 17 Oct 2018) |
| EllapsedTime: 56.2 seconds |
| RetCode: 0 |
| Status: OK |
| PackageFile: ATACseqQC_1.4.3.zip |
| PackageFileSize: 11.76 MiB |
##############################################################################
##############################################################################
###
### Running command:
###
### rm -rf ATACseqQC.buildbin-libdir && mkdir ATACseqQC.buildbin-libdir && C:\Users\biocbuild\bbs-3.7-bioc\R\bin\R.exe CMD INSTALL --merge-multiarch --build --library=ATACseqQC.buildbin-libdir ATACseqQC_1.4.3.tar.gz
###
##############################################################################
##############################################################################
install for i386
* installing *source* package 'ATACseqQC' ...
** R
** inst
** byte-compile and prepare package for lazy loading
** help
*** installing help indices
converting help for package 'ATACseqQC'
finding HTML links ... done
ATACseqQC-package html
NFRscore html
PTscore html
bamQC html
distanceDyad html
enrichedFragments html
estimateLibComplexity html
factorFootprints html
footprintsScanner html
fragSizeDist html
peakdet html
plotCorrelation html
plotFootprints html
prepareBindingSitesList html
pwmscores html
readBamFile html
finding level-2 HTML links ... done
readsDupFreq html
saturationPlot html
shiftGAlignmentsList html
shiftReads html
splitBam html
splitGAlignmentsByCut html
vPlot html
writeListOfGAlignments html
** building package indices
** installing vignettes
** testing if installed package can be loaded
In R CMD INSTALL
install for x64
* installing *source* package 'ATACseqQC' ...
** testing if installed package can be loaded
* MD5 sums
packaged installation of 'ATACseqQC' as ATACseqQC_1.4.3.zip
* DONE (ATACseqQC)
In R CMD INSTALL
In R CMD INSTALL