| Back to Multiple platform build/check report for BioC 3.7 | 
 | 
This page was generated on 2018-10-17 08:51:55 -0400 (Wed, 17 Oct 2018).
| Package 78/1561 | Hostname | OS / Arch | INSTALL | BUILD | CHECK | BUILD BIN | ||||||
| ASSET 1.98.0 Samsiddhi Bhattacharjee 
 | malbec2 | Linux (Ubuntu 16.04.1 LTS) / x86_64 | OK | OK | WARNINGS |  | ||||||
| tokay2 | Windows Server 2012 R2 Standard / x64 | OK | OK | WARNINGS | OK |  | ||||||
| merida2 | OS X 10.11.6 El Capitan / x86_64 | OK | OK | WARNINGS | [ OK ] |  | 
| Package: ASSET | 
| Version: 1.98.0 | 
| Command: rm -rf ASSET.buildbin-libdir && mkdir ASSET.buildbin-libdir && /Users/biocbuild/BBS/utils/build-universal.sh ASSET_1.98.0.tar.gz /Library/Frameworks/R.framework/Versions/Current/Resources/bin/R ASSET.buildbin-libdir | 
| StartedAt: 2018-10-17 00:55:50 -0400 (Wed, 17 Oct 2018) | 
| EndedAt: 2018-10-17 00:56:40 -0400 (Wed, 17 Oct 2018) | 
| EllapsedTime: 49.3 seconds | 
| RetCode: 0 | 
| Status: OK | 
| PackageFile: ASSET_1.98.0.tgz | 
| PackageFileSize: 363.6 KiB | 
############################################################################## ############################################################################## ### ### Running command: ### ### rm -rf ASSET.buildbin-libdir && mkdir ASSET.buildbin-libdir && /Users/biocbuild/BBS/utils/build-universal.sh ASSET_1.98.0.tar.gz /Library/Frameworks/R.framework/Versions/Current/Resources/bin/R ASSET.buildbin-libdir ### ############################################################################## ############################################################################## >>>>>>> >>>>>>> INSTALLATION WITH 'R CMD INSTALL --preclean --no-multiarch --library=ASSET.buildbin-libdir ASSET_1.98.0.tar.gz' >>>>>>> * installing *source* package ‘ASSET’ ... ** R ** data ** inst ** byte-compile and prepare package for lazy loading ** help *** installing help indices ** building package indices ** installing vignettes ** testing if installed package can be loaded * DONE (ASSET)