| Back to Multiple platform build/check report for BioC 3.7 |
|
This page was generated on 2018-10-17 08:39:20 -0400 (Wed, 17 Oct 2018).
| Package 35/1561 | Hostname | OS / Arch | INSTALL | BUILD | CHECK | BUILD BIN | ||||||
| ALDEx2 1.12.0 Greg Gloor
| malbec2 | Linux (Ubuntu 16.04.1 LTS) / x86_64 | OK | OK | OK | |||||||
| tokay2 | Windows Server 2012 R2 Standard / x64 | OK | OK | OK | [ OK ] | |||||||
| merida2 | OS X 10.11.6 El Capitan / x86_64 | OK | OK | OK | OK |
| Package: ALDEx2 |
| Version: 1.12.0 |
| Command: rm -rf ALDEx2.buildbin-libdir && mkdir ALDEx2.buildbin-libdir && C:\Users\biocbuild\bbs-3.7-bioc\R\bin\R.exe CMD INSTALL --merge-multiarch --build --library=ALDEx2.buildbin-libdir ALDEx2_1.12.0.tar.gz |
| StartedAt: 2018-10-17 06:00:55 -0400 (Wed, 17 Oct 2018) |
| EndedAt: 2018-10-17 06:01:21 -0400 (Wed, 17 Oct 2018) |
| EllapsedTime: 25.8 seconds |
| RetCode: 0 |
| Status: OK |
| PackageFile: ALDEx2_1.12.0.zip |
| PackageFileSize: 748.2 KiB |
##############################################################################
##############################################################################
###
### Running command:
###
### rm -rf ALDEx2.buildbin-libdir && mkdir ALDEx2.buildbin-libdir && C:\Users\biocbuild\bbs-3.7-bioc\R\bin\R.exe CMD INSTALL --merge-multiarch --build --library=ALDEx2.buildbin-libdir ALDEx2_1.12.0.tar.gz
###
##############################################################################
##############################################################################
install for i386
* installing *source* package 'ALDEx2' ...
** R
** data
** inst
** byte-compile and prepare package for lazy loading
** help
*** installing help indices
converting help for package 'ALDEx2'
finding HTML links ... done
ALDEx2m-package html
aldex html
aldex.clr-class html
aldex.clr.function-methods html
aldex.corr html
aldex.effect html
aldex.glm html
aldex.set.mode html
aldex.ttest html
getDenom-method html
getFeatureNames-method html
getFeatures-method html
getMonteCarloInstances-method html
getMonteCarloReplicate-method html
getReads-method html
getSampleIDs-method html
numConditions-method html
numFeatures-method html
numMCInstances-method html
plot.aldex html
selex html
synth2 html
** building package indices
** installing vignettes
** testing if installed package can be loaded
In R CMD INSTALL
install for x64
* installing *source* package 'ALDEx2' ...
** testing if installed package can be loaded
* MD5 sums
packaged installation of 'ALDEx2' as ALDEx2_1.12.0.zip
* DONE (ALDEx2)
In R CMD INSTALL
In R CMD INSTALL