| Back to Multiple platform build/check report for BioC 3.6 experimental data | 
This page was generated on 2018-04-12 12:49:24 -0400 (Thu, 12 Apr 2018).
| Package 298/326 | Hostname | OS / Arch | INSTALL | BUILD | CHECK | BUILD BIN | ||||||
| synapterdata 1.16.0 Laurent Gatto 
  | malbec1 | Linux (Ubuntu 16.04.1 LTS) / x86_64 | OK | [ OK ] | OK | 
| Package: synapterdata | 
| Version: 1.16.0 | 
| Command: /home/biocbuild/bbs-3.6-bioc/R/bin/R CMD build --keep-empty-dirs --no-resave-data synapterdata | 
| StartedAt: 2018-04-12 09:04:51 -0400 (Thu, 12 Apr 2018) | 
| EndedAt: 2018-04-12 09:05:18 -0400 (Thu, 12 Apr 2018) | 
| EllapsedTime: 26.8 seconds | 
| RetCode: 0 | 
| Status: OK | 
| PackageFile: synapterdata_1.16.0.tar.gz | 
| PackageFileSize: 418.4 MiB | 
############################################################################## ############################################################################## ### ### Running command: ### ### /home/biocbuild/bbs-3.6-bioc/R/bin/R CMD build --keep-empty-dirs --no-resave-data synapterdata ### ############################################################################## ############################################################################## * checking for file ‘synapterdata/DESCRIPTION’ ... OK * preparing ‘synapterdata’: * checking DESCRIPTION meta-information ... OK * checking for LF line-endings in source and make files and shell scripts * checking for empty or unneeded directories * looking to see if a ‘data/datalist’ file should be added * building ‘synapterdata_1.16.0.tar.gz’