| Back to Multiple platform build/check report for BioC 3.6 experimental data | 
This page was generated on 2018-04-12 12:49:28 -0400 (Thu, 12 Apr 2018).
| Package 289/326 | Hostname | OS / Arch | INSTALL | BUILD | CHECK | BUILD BIN | ||||||
| SNAGEEdata 1.14.0 David Venet 
  | malbec1 | Linux (Ubuntu 16.04.1 LTS) / x86_64 | [ OK ] | OK | OK | 
| Package: SNAGEEdata | 
| Version: 1.14.0 | 
| Command: /home/biocbuild/bbs-3.6-bioc/R/bin/R CMD INSTALL SNAGEEdata | 
| StartedAt: 2018-04-12 08:55:57 -0400 (Thu, 12 Apr 2018) | 
| EndedAt: 2018-04-12 08:56:00 -0400 (Thu, 12 Apr 2018) | 
| EllapsedTime: 2.1 seconds | 
| RetCode: 0 | 
| Status: OK | 
############################################################################## ############################################################################## ### ### Running command: ### ### /home/biocbuild/bbs-3.6-bioc/R/bin/R CMD INSTALL SNAGEEdata ### ############################################################################## ############################################################################## * installing to library ‘/home/biocbuild/bbs-3.6-bioc/R/library’ * installing *source* package ‘SNAGEEdata’ ... ** R ** inst ** preparing package for lazy loading ** help *** installing help indices ** building package indices ** testing if installed package can be loaded * DONE (SNAGEEdata)