| Back to Multiple platform build/check report for BioC 3.6 | 
 | 
This page was generated on 2018-04-12 13:06:52 -0400 (Thu, 12 Apr 2018).
| Package 1403/1472 | Hostname | OS / Arch | INSTALL | BUILD | CHECK | BUILD BIN | ||||||
| tkWidgets 1.56.0 J. Zhang 
 | malbec1 | Linux (Ubuntu 16.04.1 LTS) / x86_64 | OK | OK | [ OK ] |  | ||||||
| tokay1 | Windows Server 2012 R2 Standard / x64 | OK | OK | OK | OK |  | ||||||
| veracruz1 | OS X 10.11.6 El Capitan / x86_64 | OK | OK | OK | OK |  | 
| Package: tkWidgets | 
| Version: 1.56.0 | 
| Command: /home/biocbuild/bbs-3.6-bioc/R/bin/R CMD check --no-vignettes --timings tkWidgets_1.56.0.tar.gz | 
| StartedAt: 2018-04-12 03:21:13 -0400 (Thu, 12 Apr 2018) | 
| EndedAt: 2018-04-12 03:21:41 -0400 (Thu, 12 Apr 2018) | 
| EllapsedTime: 28.5 seconds | 
| RetCode: 0 | 
| Status: OK | 
| CheckDir: tkWidgets.Rcheck | 
| Warnings: 0 | 
##############################################################################
##############################################################################
###
### Running command:
###
###   /home/biocbuild/bbs-3.6-bioc/R/bin/R CMD check --no-vignettes --timings tkWidgets_1.56.0.tar.gz
###
##############################################################################
##############################################################################
* using log directory ‘/home/biocbuild/bbs-3.6-bioc/meat/tkWidgets.Rcheck’
* using R version 3.4.4 (2018-03-15)
* using platform: x86_64-pc-linux-gnu (64-bit)
* using session charset: UTF-8
* using option ‘--no-vignettes’
* checking for file ‘tkWidgets/DESCRIPTION’ ... OK
* this is package ‘tkWidgets’ version ‘1.56.0’
* checking package namespace information ... OK
* checking package dependencies ... OK
* checking if this is a source package ... OK
* checking if there is a namespace ... OK
* checking for hidden files and directories ... OK
* checking for portable file names ... OK
* checking for sufficient/correct file permissions ... OK
* checking whether package ‘tkWidgets’ can be installed ... OK
* checking installed package size ... OK
* checking package directory ... OK
* checking ‘build’ directory ... OK
* checking DESCRIPTION meta-information ... OK
* checking top-level files ... OK
* checking for left-over files ... OK
* checking index information ... OK
* checking package subdirectories ... OK
* checking R files for non-ASCII characters ... OK
* checking R files for syntax errors ... OK
* checking whether the package can be loaded ... OK
* checking whether the package can be loaded with stated dependencies ... OK
* checking whether the package can be unloaded cleanly ... OK
* checking whether the namespace can be loaded with stated dependencies ... OK
* checking whether the namespace can be unloaded cleanly ... OK
* checking dependencies in R code ... NOTE
'library' or 'require' calls to packages already attached by Depends:
  ‘DynDoc’ ‘methods’ ‘tools’ ‘widgetTools’
  Please remove these calls from your code.
'library' or 'require' call to ‘Biobase’ in package code.
  Please use :: or requireNamespace() instead.
  See section 'Suggested packages' in the 'Writing R Extensions' manual.
Packages in Depends field not imported from:
  ‘DynDoc’ ‘methods’ ‘tools’ ‘widgetTools’
  These packages need to be imported from (in the NAMESPACE file)
  for when this namespace is loaded but not attached.
* checking S3 generic/method consistency ... OK
* checking replacement functions ... OK
* checking foreign function calls ... OK
* checking R code for possible problems ... NOTE
File ‘tkWidgets/R/zzz.R’:
  .onLoad calls:
    require("methods", quietly = TRUE)
    require("widgetTools", quietly = TRUE)
    require("DynDoc", quietly = TRUE)
    require(Biobase)
Package startup functions should not change the search path.
See section ‘Good practice’ in '?.onAttach'.
.getPackNames: warning in .packages(all = TRUE): partial argument match
  of 'all' to 'all.available'
.popPackList: warning in .packages(all = TRUE): partial argument match
  of 'all' to 'all.available'
assignArgs: warning in assign("argsList", value, env = env): partial
  argument match of 'env' to 'envir'
assignLineData: warning in assign("lineData", lineData, env = env):
  partial argument match of 'env' to 'envir'
eExplorer : export: warning in assign(i, temp[[i]], env = .GlobalEnv):
  partial argument match of 'env' to 'envir'
fileWizard : view: warning in read.table(file = args$file, head =
  args$header, sep = args$sep, as.is = TRUE): partial argument match of
  'head' to 'header'
fileWizard : finish: warning in read.table(file = args$file, head =
  args$header, sep = args$sep, as.is = TRUE): partial argument match of
  'head' to 'header'
finish: warning in assign(dataName, dataFile, env = .GlobalEnv):
  partial argument match of 'env' to 'envir'
getRowNames: warning in read.table(file.name, sep = sep, nrow = 3,
  header = header, skip = skip): partial argument match of 'nrow' to
  'nrows'
objNameToList: warning in get(objNames[i], env = env): partial argument
  match of 'env' to 'envir'
objectBrowser : viewEnv: warning in ls(env = env, all = TRUE): partial
  argument match of 'env' to 'envir'
objectBrowser : viewEnv: warning in ls(env = env, all = TRUE): partial
  argument match of 'all' to 'all.names'
objectBrowser : doEnv: warning in ls(env = get(item)): partial argument
  match of 'env' to 'envir'
objectBrowser : up: warning in ls(env = get(selectedObj)): partial
  argument match of 'env' to 'envir'
viewVignette : export: warning in assign(i, temp[[i]], env =
  .GlobalEnv): partial argument match of 'env' to 'envir'
.onLoad: no visible global function definition for ‘addVigs2WinMenu’
fileWizard : brows: no visible global function definition for ‘tkcmd’
formatArg: no visible global function definition for ‘formula’
importPhenoData : getPData: no visible global function definition for
  ‘pData’
objNameToList: no visible global function definition for
  ‘package.contents’
vExplorer : write2VigList: no visible global function definition for
  ‘pkgVignettes’
Undefined global functions or variables:
  addVigs2WinMenu formula pData package.contents pkgVignettes tkcmd
Consider adding
  importFrom("stats", "formula")
to your NAMESPACE file.
* checking Rd files ... OK
* checking Rd metadata ... OK
* checking Rd cross-references ... OK
* checking for missing documentation entries ... OK
* checking for code/documentation mismatches ... OK
* checking Rd \usage sections ... OK
* checking Rd contents ... OK
* checking for unstated dependencies in examples ... OK
* checking installed files from ‘inst/doc’ ... OK
* checking files in ‘vignettes’ ... OK
* checking examples ... OK
* checking for unstated dependencies in vignettes ... OK
* checking package vignettes in ‘inst/doc’ ... OK
* checking running R code from vignettes ... SKIPPED
* checking re-building of vignette outputs ... SKIPPED
* checking PDF version of manual ... OK
* DONE
Status: 2 NOTEs
See
  ‘/home/biocbuild/bbs-3.6-bioc/meat/tkWidgets.Rcheck/00check.log’
for details.
tkWidgets.Rcheck/00install.out
* installing *source* package ‘tkWidgets’ ... ** R ** inst ** preparing package for lazy loading ** help *** installing help indices ** building package indices ** installing vignettes ** testing if installed package can be loaded * DONE (tkWidgets)
tkWidgets.Rcheck/tkWidgets-Ex.timings
| name | user | system | elapsed | |
| DPExplorer | 0 | 0 | 0 | |
| WName | 0.000 | 0.000 | 0.003 | |
| appendSepDir | 0.000 | 0.000 | 0.002 | |
| args2XML | 0.008 | 0.000 | 0.009 | |
| argsWidget | 0 | 0 | 0 | |
| colInfo-class | 0.004 | 0.000 | 0.002 | |
| dataViewer | 0 | 0 | 0 | |
| dbArgsWidget | 0 | 0 | 0 | |
| eExplorer | 0.000 | 0.000 | 0.001 | |
| fileBrowser | 0.000 | 0.000 | 0.001 | |
| fileWizard | 0 | 0 | 0 | |
| getLightTW | 0 | 0 | 0 | |
| getWvalues | 0.000 | 0.000 | 0.002 | |
| guess.sep | 0.004 | 0.000 | 0.006 | |
| hasChar | 0.000 | 0.004 | 0.001 | |
| importPhenoData | 0 | 0 | 0 | |
| importWizard | 0.000 | 0.000 | 0.001 | |
| listSelect | 0.004 | 0.000 | 0.001 | |
| objNameToList | 0.008 | 0.000 | 0.007 | |
| objViewer | 0 | 0 | 0 | |
| objectBrowser | 0.000 | 0.000 | 0.001 | |
| pExplorer | 0.028 | 0.020 | 0.046 | |
| pickFiles | 0.012 | 0.004 | 0.015 | |
| pickItems | 0.000 | 0.000 | 0.001 | |
| pickObjs | 0.000 | 0.000 | 0.001 | |
| setArgsList | 0.000 | 0.000 | 0.001 | |
| stdType | 0.004 | 0.000 | 0.005 | |
| vExplorer | 0.000 | 0.000 | 0.001 | |
| values.Widget | 0.004 | 0.000 | 0.002 | |
| widgetRender | 0.000 | 0.000 | 0.001 | |