| Back to Multiple platform build/check report for BioC 3.6 |
|
This page was generated on 2018-04-12 13:37:18 -0400 (Thu, 12 Apr 2018).
| Package 1367/1472 | Hostname | OS / Arch | INSTALL | BUILD | CHECK | BUILD BIN | ||||||
| supraHex 1.16.0 Hai Fang
| malbec1 | Linux (Ubuntu 16.04.1 LTS) / x86_64 | OK | OK | OK | |||||||
| tokay1 | Windows Server 2012 R2 Standard / x64 | OK | OK | OK | OK | |||||||
| veracruz1 | OS X 10.11.6 El Capitan / x86_64 | OK | OK | OK | [ OK ] |
| Package: supraHex |
| Version: 1.16.0 |
| Command: rm -rf supraHex.buildbin-libdir && mkdir supraHex.buildbin-libdir && /Users/biocbuild/BBS/utils/build-universal.sh supraHex_1.16.0.tar.gz /Library/Frameworks/R.framework/Versions/Current/Resources/bin/R supraHex.buildbin-libdir |
| StartedAt: 2018-04-12 12:18:54 -0400 (Thu, 12 Apr 2018) |
| EndedAt: 2018-04-12 12:19:14 -0400 (Thu, 12 Apr 2018) |
| EllapsedTime: 19.7 seconds |
| RetCode: 0 |
| Status: OK |
| PackageFile: supraHex_1.16.0.tgz |
| PackageFileSize: 4.249 MiB |
############################################################################## ############################################################################## ### ### Running command: ### ### rm -rf supraHex.buildbin-libdir && mkdir supraHex.buildbin-libdir && /Users/biocbuild/BBS/utils/build-universal.sh supraHex_1.16.0.tar.gz /Library/Frameworks/R.framework/Versions/Current/Resources/bin/R supraHex.buildbin-libdir ### ############################################################################## ############################################################################## >>>>>>> >>>>>>> INSTALLATION WITH 'R CMD INSTALL --preclean --no-multiarch --library=supraHex.buildbin-libdir supraHex_1.16.0.tar.gz' >>>>>>> * installing *source* package ‘supraHex’ ... ** R ** data ** inst ** preparing package for lazy loading ** help *** installing help indices ** building package indices ** installing vignettes ** testing if installed package can be loaded * DONE (supraHex)