| Back to Multiple platform build/check report for BioC 3.6 |
|
This page was generated on 2018-04-12 13:40:51 -0400 (Thu, 12 Apr 2018).
| Package 1322/1472 | Hostname | OS / Arch | INSTALL | BUILD | CHECK | BUILD BIN | ||||||
| soGGi 1.10.0 Tom Carroll
| malbec1 | Linux (Ubuntu 16.04.1 LTS) / x86_64 | OK | OK | WARNINGS | |||||||
| tokay1 | Windows Server 2012 R2 Standard / x64 | OK | OK | WARNINGS | OK | |||||||
| veracruz1 | OS X 10.11.6 El Capitan / x86_64 | OK | [ OK ] | WARNINGS | OK |
| Package: soGGi |
| Version: 1.10.0 |
| Command: /Library/Frameworks/R.framework/Versions/Current/Resources/bin/R CMD build --keep-empty-dirs --no-resave-data soGGi |
| StartedAt: 2018-04-11 21:34:15 -0400 (Wed, 11 Apr 2018) |
| EndedAt: 2018-04-11 21:35:28 -0400 (Wed, 11 Apr 2018) |
| EllapsedTime: 72.2 seconds |
| RetCode: 0 |
| Status: OK |
| PackageFile: soGGi_1.10.0.tar.gz |
| PackageFileSize: 3.273 MiB |
##############################################################################
##############################################################################
###
### Running command:
###
### /Library/Frameworks/R.framework/Versions/Current/Resources/bin/R CMD build --keep-empty-dirs --no-resave-data soGGi
###
##############################################################################
##############################################################################
* checking for file ‘soGGi/DESCRIPTION’ ... OK
* preparing ‘soGGi’:
* checking DESCRIPTION meta-information ... OK
* installing the package to build vignettes
* creating vignettes ... OK
Warning: ‘inst/doc’ files
‘soggi.Rnw’, ‘soggi.pdf’
ignored as vignettes have been rebuilt.
Run R CMD build with --no-build-vignettes to prevent rebuilding.
* checking for LF line-endings in source and make files and shell scripts
* checking for empty or unneeded directories
* looking to see if a ‘data/datalist’ file should be added
* building ‘soGGi_1.10.0.tar.gz’