| Back to Multiple platform build/check report for BioC 3.6 | 
 | 
This page was generated on 2018-04-12 13:18:35 -0400 (Thu, 12 Apr 2018).
| Package 1277/1472 | Hostname | OS / Arch | INSTALL | BUILD | CHECK | BUILD BIN | ||||||
| seqLogo 1.44.0 Oliver Bembom 
 | malbec1 | Linux (Ubuntu 16.04.1 LTS) / x86_64 | OK | OK | OK |  | ||||||
| tokay1 | Windows Server 2012 R2 Standard / x64 | OK | OK | OK | [ OK ] |  | ||||||
| veracruz1 | OS X 10.11.6 El Capitan / x86_64 | OK | OK | OK | OK |  | 
| Package: seqLogo | 
| Version: 1.44.0 | 
| Command: cd seqLogo.buildbin-libdir/seqLogo && zip -r ../../seqLogo_1.44.0.zip . & cd ../.. | 
| StartedAt: 2018-04-12 05:03:03 -0400 (Thu, 12 Apr 2018) | 
| EndedAt: 2018-04-12 05:03:33 -0400 (Thu, 12 Apr 2018) | 
| EllapsedTime: 30.5 seconds | 
| RetCode: 0 | 
| Status: OK | 
| PackageFile: seqLogo_1.44.0.zip | 
| PackageFileSize: 654.8 KiB | 
############################################################################## ############################################################################## ### ### Running command: ### ### cd seqLogo.buildbin-libdir/seqLogo && zip -r ../../seqLogo_1.44.0.zip . & cd ../.. ### ############################################################################## ############################################################################## adding: DESCRIPTION (332 bytes security) (deflated 33%) adding: doc/ (372 bytes security) (stored 0%) adding: doc/index.html (332 bytes security) (deflated 58%) adding: doc/seqLogo.pdf (332 bytes security) (deflated 5%) adding: doc/seqLogo.R (332 bytes security) (deflated 76%) adding: doc/seqLogo.Rnw (332 bytes security) (deflated 60%) adding: Exfiles/ (372 bytes security) (stored 0%) adding: Exfiles/pwm1 (332 bytes security) (deflated 58%) adding: help/ (372 bytes security) (stored 0%) adding: help/aliases.rds (332 bytes security) (stored 0%) adding: help/AnIndex (332 bytes security) (deflated 53%) adding: help/paths.rds (332 bytes security) (stored 0%) adding: help/seqLogo.rdb (332 bytes security) (stored 0%) adding: help/seqLogo.rdx (332 bytes security) (stored 0%) adding: html/ (372 bytes security) (stored 0%) adding: html/00Index.html (332 bytes security) (deflated 62%) adding: html/makePWM.html (332 bytes security) (deflated 48%) adding: html/pwm-class.html (332 bytes security) (deflated 58%) adding: html/R.css (332 bytes security) (deflated 75%) adding: html/seqLogo.html (332 bytes security) (deflated 60%) adding: INDEX (332 bytes security) (deflated 40%) adding: MD5 (332 bytes security) (deflated 42%) adding: Meta/ (372 bytes security) (stored 0%) adding: Meta/features.rds (332 bytes security) (stored 0%) adding: Meta/hsearch.rds (332 bytes security) (stored 0%) adding: Meta/links.rds (332 bytes security) (stored 0%) adding: Meta/nsInfo.rds (332 bytes security) (stored 0%) adding: Meta/package.rds (332 bytes security) (stored 0%) adding: Meta/Rd.rds (332 bytes security) (stored 0%) adding: Meta/vignette.rds (332 bytes security) (stored 0%) adding: NAMESPACE (332 bytes security) (deflated 23%) adding: R/ (372 bytes security) (stored 0%) adding: R/seqLogo (332 bytes security) (deflated 41%) adding: R/seqLogo.rdb (332 bytes security) (deflated 22%) adding: R/seqLogo.rdx (332 bytes security) (stored 0%)