| Back to Multiple platform build/check report for BioC 3.6 |
|
This page was generated on 2018-04-12 13:07:21 -0400 (Thu, 12 Apr 2018).
| Package 1239/1472 | Hostname | OS / Arch | INSTALL | BUILD | CHECK | BUILD BIN | ||||||
| safe 3.18.0 William T. Barry
| malbec1 | Linux (Ubuntu 16.04.1 LTS) / x86_64 | OK | [ OK ] | OK | |||||||
| tokay1 | Windows Server 2012 R2 Standard / x64 | OK | OK | OK | OK | |||||||
| veracruz1 | OS X 10.11.6 El Capitan / x86_64 | OK | OK | OK | OK |
| Package: safe |
| Version: 3.18.0 |
| Command: /home/biocbuild/bbs-3.6-bioc/R/bin/R CMD build --keep-empty-dirs --no-resave-data safe |
| StartedAt: 2018-04-11 18:15:52 -0400 (Wed, 11 Apr 2018) |
| EndedAt: 2018-04-11 18:21:28 -0400 (Wed, 11 Apr 2018) |
| EllapsedTime: 335.6 seconds |
| RetCode: 0 |
| Status: OK |
| PackageFile: safe_3.18.0.tar.gz |
| PackageFileSize: 564.7 KiB |
############################################################################## ############################################################################## ### ### Running command: ### ### /home/biocbuild/bbs-3.6-bioc/R/bin/R CMD build --keep-empty-dirs --no-resave-data safe ### ############################################################################## ############################################################################## * checking for file ‘safe/DESCRIPTION’ ... OK * preparing ‘safe’: * checking DESCRIPTION meta-information ... OK * installing the package to build vignettes * creating vignettes ... OK * checking for LF line-endings in source and make files and shell scripts * checking for empty or unneeded directories * looking to see if a ‘data/datalist’ file should be added * building ‘safe_3.18.0.tar.gz’