| Back to Multiple platform build/check report for BioC 3.6 |
|
This page was generated on 2018-04-12 13:45:46 -0400 (Thu, 12 Apr 2018).
| Package 1162/1472 | Hostname | OS / Arch | INSTALL | BUILD | CHECK | BUILD BIN | ||||||
| restfulSE 1.0.2 Shweta Gopaulakrishnan
| malbec1 | Linux (Ubuntu 16.04.1 LTS) / x86_64 | OK | OK | OK | |||||||
| tokay1 | Windows Server 2012 R2 Standard / x64 | OK | OK | WARNINGS | OK | |||||||
| veracruz1 | OS X 10.11.6 El Capitan / x86_64 | OK | [ OK ] | OK | OK |
| Package: restfulSE |
| Version: 1.0.2 |
| Command: /Library/Frameworks/R.framework/Versions/Current/Resources/bin/R CMD build --keep-empty-dirs --no-resave-data restfulSE |
| StartedAt: 2018-04-11 23:44:01 -0400 (Wed, 11 Apr 2018) |
| EndedAt: 2018-04-11 23:46:49 -0400 (Wed, 11 Apr 2018) |
| EllapsedTime: 168.1 seconds |
| RetCode: 0 |
| Status: OK |
| PackageFile: restfulSE_1.0.2.tar.gz |
| PackageFileSize: 375 KiB |
############################################################################## ############################################################################## ### ### Running command: ### ### /Library/Frameworks/R.framework/Versions/Current/Resources/bin/R CMD build --keep-empty-dirs --no-resave-data restfulSE ### ############################################################################## ############################################################################## * checking for file ‘restfulSE/DESCRIPTION’ ... OK * preparing ‘restfulSE’: * checking DESCRIPTION meta-information ... OK * installing the package to build vignettes * creating vignettes ... OK * checking for LF line-endings in source and make files and shell scripts * checking for empty or unneeded directories * building ‘restfulSE_1.0.2.tar.gz’