| Back to Multiple platform build/check report for BioC 3.6 |
|
This page was generated on 2018-04-12 13:37:20 -0400 (Thu, 12 Apr 2018).
| Package 1107/1472 | Hostname | OS / Arch | INSTALL | BUILD | CHECK | BUILD BIN | ||||||
| qusage 2.12.0 Christopher Bolen
| malbec1 | Linux (Ubuntu 16.04.1 LTS) / x86_64 | OK | OK | OK | |||||||
| tokay1 | Windows Server 2012 R2 Standard / x64 | OK | OK | WARNINGS | OK | |||||||
| veracruz1 | OS X 10.11.6 El Capitan / x86_64 | OK | OK | OK | [ OK ] |
| Package: qusage |
| Version: 2.12.0 |
| Command: rm -rf qusage.buildbin-libdir && mkdir qusage.buildbin-libdir && /Users/biocbuild/BBS/utils/build-universal.sh qusage_2.12.0.tar.gz /Library/Frameworks/R.framework/Versions/Current/Resources/bin/R qusage.buildbin-libdir |
| StartedAt: 2018-04-12 12:03:37 -0400 (Thu, 12 Apr 2018) |
| EndedAt: 2018-04-12 12:03:46 -0400 (Thu, 12 Apr 2018) |
| EllapsedTime: 9.1 seconds |
| RetCode: 0 |
| Status: OK |
| PackageFile: qusage_2.12.0.tgz |
| PackageFileSize: 9.511 MiB |
############################################################################## ############################################################################## ### ### Running command: ### ### rm -rf qusage.buildbin-libdir && mkdir qusage.buildbin-libdir && /Users/biocbuild/BBS/utils/build-universal.sh qusage_2.12.0.tar.gz /Library/Frameworks/R.framework/Versions/Current/Resources/bin/R qusage.buildbin-libdir ### ############################################################################## ############################################################################## >>>>>>> >>>>>>> INSTALLATION WITH 'R CMD INSTALL --preclean --no-multiarch --library=qusage.buildbin-libdir qusage_2.12.0.tar.gz' >>>>>>> * installing *source* package ‘qusage’ ... ** R ** data ** inst ** preparing package for lazy loading ** help *** installing help indices ** building package indices ** installing vignettes ** testing if installed package can be loaded * DONE (qusage)