| Back to Multiple platform build/check report for BioC 3.6 |
|
This page was generated on 2018-04-12 13:25:09 -0400 (Thu, 12 Apr 2018).
| Package 1011/1472 | Hostname | OS / Arch | INSTALL | BUILD | CHECK | BUILD BIN | ||||||
| paxtoolsr 1.12.0 Augustin Luna
| malbec1 | Linux (Ubuntu 16.04.1 LTS) / x86_64 | OK | ERROR | skipped | |||||||
| tokay1 | Windows Server 2012 R2 Standard / x64 | OK | [ ERROR ] | skipped | skipped | |||||||
| veracruz1 | OS X 10.11.6 El Capitan / x86_64 | OK | ERROR | skipped | skipped |
| Package: paxtoolsr |
| Version: 1.12.0 |
| Command: chmod a+r paxtoolsr -R && C:\Users\biocbuild\bbs-3.6-bioc\R\bin\R.exe CMD build --keep-empty-dirs --no-resave-data paxtoolsr |
| StartedAt: 2018-04-11 20:28:13 -0400 (Wed, 11 Apr 2018) |
| EndedAt: 2018-04-11 20:28:47 -0400 (Wed, 11 Apr 2018) |
| EllapsedTime: 33.4 seconds |
| RetCode: 1 |
| Status: ERROR |
| PackageFile: None |
| PackageFileSize: NA |
############################################################################## ############################################################################## ### ### Running command: ### ### chmod a+r paxtoolsr -R && C:\Users\biocbuild\bbs-3.6-bioc\R\bin\R.exe CMD build --keep-empty-dirs --no-resave-data paxtoolsr ### ############################################################################## ############################################################################## * checking for file 'paxtoolsr/DESCRIPTION' ... OK * preparing 'paxtoolsr': * checking DESCRIPTION meta-information ... OK * installing the package to build vignettes * creating vignettes ...Warning: running command '"C:/Users/biocbuild/bbs-3.6-bioc/R/bin/x64/Rscript" --vanilla --default-packages= -e "tools::buildVignettes(dir = '.', tangle = TRUE)"' had status 1 ERROR Loading required package: rJava Loading required package: XML 2018-04-11 20:28:41,499 1063 [main] INFO org.biopax.paxtools.PaxtoolsMain - toSif: not blacklisting ubiquitous molecules (no blacklist.txt found) 2018-04-11 20:28:41,890 1454 [main] INFO org.biopax.paxtools.PaxtoolsMain - toSifnx: not blacklisting ubiquitous molecules (no blacklist.txt found) Quitting from lines 170-172 (using_paxtoolsr.Rmd) Error: processing vignette 'using_paxtoolsr.Rmd' failed with diagnostics: Failed to connect to www.pathwaycommons.org port 80: Connection refused Execution halted