| Back to Multiple platform build/check report for BioC 3.6 | 
 | 
This page was generated on 2018-04-12 13:42:27 -0400 (Thu, 12 Apr 2018).
| Package 952/1472 | Hostname | OS / Arch | INSTALL | BUILD | CHECK | BUILD BIN | ||||||
| nucleoSim 1.6.0 Astrid Deschenes 
 | malbec1 | Linux (Ubuntu 16.04.1 LTS) / x86_64 | OK | OK | OK |  | ||||||
| tokay1 | Windows Server 2012 R2 Standard / x64 | OK | OK | OK | OK |  | ||||||
| veracruz1 | OS X 10.11.6 El Capitan / x86_64 | OK | [ OK ] | OK | OK |  | 
| Package: nucleoSim | 
| Version: 1.6.0 | 
| Command: /Library/Frameworks/R.framework/Versions/Current/Resources/bin/R CMD build --keep-empty-dirs --no-resave-data nucleoSim | 
| StartedAt: 2018-04-11 22:17:58 -0400 (Wed, 11 Apr 2018) | 
| EndedAt: 2018-04-11 22:18:11 -0400 (Wed, 11 Apr 2018) | 
| EllapsedTime: 12.7 seconds | 
| RetCode: 0 | 
| Status: OK | 
| PackageFile: nucleoSim_1.6.0.tar.gz | 
| PackageFileSize: 518.4 KiB | 
############################################################################## ############################################################################## ### ### Running command: ### ### /Library/Frameworks/R.framework/Versions/Current/Resources/bin/R CMD build --keep-empty-dirs --no-resave-data nucleoSim ### ############################################################################## ############################################################################## * checking for file ‘nucleoSim/DESCRIPTION’ ... OK * preparing ‘nucleoSim’: * checking DESCRIPTION meta-information ... OK * installing the package to build vignettes * creating vignettes ... OK * checking for LF line-endings in source and make files and shell scripts * checking for empty or unneeded directories * building ‘nucleoSim_1.6.0.tar.gz’