| Back to Multiple platform build/check report for BioC 3.6 |
|
This page was generated on 2018-04-12 13:36:02 -0400 (Thu, 12 Apr 2018).
| Package 892/1472 | Hostname | OS / Arch | INSTALL | BUILD | CHECK | BUILD BIN | ||||||
| motifStack 1.22.4 Jianhong Ou
| malbec1 | Linux (Ubuntu 16.04.1 LTS) / x86_64 | OK | OK | OK | |||||||
| tokay1 | Windows Server 2012 R2 Standard / x64 | OK | OK | WARNINGS | OK | |||||||
| veracruz1 | OS X 10.11.6 El Capitan / x86_64 | OK | OK | [ OK ] | OK |
| Package: motifStack |
| Version: 1.22.4 |
| Command: /Library/Frameworks/R.framework/Versions/Current/Resources/bin/R CMD check --no-vignettes --timings motifStack_1.22.4.tar.gz |
| StartedAt: 2018-04-12 06:43:16 -0400 (Thu, 12 Apr 2018) |
| EndedAt: 2018-04-12 06:47:33 -0400 (Thu, 12 Apr 2018) |
| EllapsedTime: 257.1 seconds |
| RetCode: 0 |
| Status: OK |
| CheckDir: motifStack.Rcheck |
| Warnings: 0 |
##############################################################################
##############################################################################
###
### Running command:
###
### /Library/Frameworks/R.framework/Versions/Current/Resources/bin/R CMD check --no-vignettes --timings motifStack_1.22.4.tar.gz
###
##############################################################################
##############################################################################
* using log directory ‘/Users/biocbuild/bbs-3.6-bioc/meat/motifStack.Rcheck’
* using R version 3.4.4 (2018-03-15)
* using platform: x86_64-apple-darwin15.6.0 (64-bit)
* using session charset: UTF-8
* using option ‘--no-vignettes’
* checking for file ‘motifStack/DESCRIPTION’ ... OK
* checking extension type ... Package
* this is package ‘motifStack’ version ‘1.22.4’
* checking package namespace information ... OK
* checking package dependencies ... OK
* checking if this is a source package ... OK
* checking if there is a namespace ... OK
* checking for hidden files and directories ... OK
* checking for portable file names ... OK
* checking for sufficient/correct file permissions ... OK
* checking whether package ‘motifStack’ can be installed ... OK
* checking installed package size ... NOTE
installed size is 5.8Mb
sub-directories of 1Mb or more:
doc 4.9Mb
* checking package directory ... OK
* checking ‘build’ directory ... OK
* checking DESCRIPTION meta-information ... OK
* checking top-level files ... OK
* checking for left-over files ... OK
* checking index information ... OK
* checking package subdirectories ... OK
* checking R files for non-ASCII characters ... OK
* checking R files for syntax errors ... OK
* checking whether the package can be loaded ... OK
* checking whether the package can be loaded with stated dependencies ... OK
* checking whether the package can be unloaded cleanly ... OK
* checking whether the namespace can be loaded with stated dependencies ... OK
* checking whether the namespace can be unloaded cleanly ... OK
* checking dependencies in R code ... OK
* checking S3 generic/method consistency ... OK
* checking replacement functions ... OK
* checking foreign function calls ... OK
* checking R code for possible problems ... NOTE
motifCircos: no visible global function definition for ‘par’
motifCircos: no visible global function definition for ‘plot.default’
motifCircos: no visible binding for global variable ‘strwidth’
motifCircos : plotBgArc: no visible global function definition for
‘polygon’
motifCircos: no visible global function definition for ‘text’
motifCircos: no visible global function definition for ‘segments’
motifCircos: no visible global function definition for ‘points’
motifCircos: no visible global function definition for ‘lines’
motifCircos: no visible global function definition for ‘symbols’
motifCircos: no visible global function definition for ‘strwidth’
motifCircos: no visible global function definition for ‘box’
motifCloud: no visible global function definition for ‘par’
motifCloud: no visible global function definition for ‘plot.new’
motifCloud: no visible global function definition for ‘strheight’
motifCloud: no visible global function definition for ‘plot.window’
motifCloud: no visible global function definition for ‘plot.default’
motifCloud : plotUnrootedTree: no visible global function definition
for ‘segments’
motifCloud : plotUnrootedTree: no visible global function definition
for ‘strheight’
motifCloud: no visible global function definition for ‘segments’
motifCloud: no visible global function definition for ‘legend’
motifPiles: no visible global function definition for ‘par’
motifPiles: no visible global function definition for ‘plot.default’
motifPiles: no visible binding for global variable ‘strwidth’
motifPiles: no visible global function definition for ‘strwidth’
motifPiles: no visible global function definition for ‘points’
motifPiles: no visible global function definition for ‘segments’
motifPiles: no visible global function definition for ‘abline’
motifPiles: no visible global function definition for ‘rect’
motifPiles: no visible global function definition for ‘text’
motifStack: no visible global function definition for ‘plot’
plotAffinityLogo: no visible binding for global variable ‘plot.new’
plotAffinityLogo: no visible global function definition for ‘plot.new’
plotAffinityLogo: no visible global function definition for ‘text’
plotMotifLogo: no visible global function definition for ‘plot.new’
plotMotifLogo: no visible global function definition for ‘text’
plotMotifLogo: no visible global function definition for ‘mtext’
plotMotifLogoStack: no visible global function definition for ‘par’
plotMotifLogoStack: no visible global function definition for ‘plot’
plotMotifLogoStackWithTree: no visible global function definition for
‘par’
plotMotifLogoStackWithTree: no visible global function definition for
‘layout’
plotMotifLogoStackWithTree: no visible global function definition for
‘plot.new’
plotMotifLogoStackWithTree: no visible global function definition for
‘plot’
plotMotifOverMotif: no visible global function definition for
‘plot.new’
plotMotifStackWithPhylog: no visible global function definition for
‘par’
plotMotifStackWithPhylog: no visible global function definition for
‘plot.default’
plotMotifStackWithPhylog: no visible binding for global variable
‘strwidth’
plotMotifStackWithPhylog: no visible global function definition for
‘strwidth’
plotMotifStackWithPhylog: no visible global function definition for
‘text’
plotMotifStackWithPhylog: no visible global function definition for
‘segments’
plotMotifStackWithPhylog: no visible global function definition for
‘points’
plotMotifStackWithRadialPhylog: no visible global function definition
for ‘par’
plotMotifStackWithRadialPhylog: no visible global function definition
for ‘plot.default’
plotMotifStackWithRadialPhylog: no visible binding for global variable
‘strwidth’
plotMotifStackWithRadialPhylog : plotBgArc: no visible global function
definition for ‘polygon’
plotMotifStackWithRadialPhylog: no visible global function definition
for ‘text’
plotMotifStackWithRadialPhylog: no visible global function definition
for ‘segments’
plotMotifStackWithRadialPhylog: no visible global function definition
for ‘points’
plotMotifStackWithRadialPhylog: no visible global function definition
for ‘lines’
plotMotifStackWithRadialPhylog: no visible global function definition
for ‘symbols’
plotMotifStackWithRadialPhylog: no visible global function definition
for ‘strwidth’
plotMotifStackWithRadialPhylog: no visible global function definition
for ‘box’
plotXaxis: no visible global function definition for ‘axis’
plotYaxis: no visible global function definition for ‘axis’
plotYaxis: no visible global function definition for ‘par’
Undefined global functions or variables:
abline axis box layout legend lines mtext par plot plot.default
plot.new plot.window points polygon rect segments strheight strwidth
symbols text
Consider adding
importFrom("graphics", "abline", "axis", "box", "layout", "legend",
"lines", "mtext", "par", "plot", "plot.default", "plot.new",
"plot.window", "points", "polygon", "rect", "segments",
"strheight", "strwidth", "symbols", "text")
to your NAMESPACE file.
* checking Rd files ... OK
* checking Rd metadata ... OK
* checking Rd cross-references ... OK
* checking for missing documentation entries ... OK
* checking for code/documentation mismatches ... OK
* checking Rd \usage sections ... OK
* checking Rd contents ... OK
* checking for unstated dependencies in examples ... OK
* checking installed files from ‘inst/doc’ ... OK
* checking files in ‘vignettes’ ... OK
* checking examples ... OK
* checking for unstated dependencies in ‘tests’ ... OK
* checking tests ...
Running ‘runTests.R’
OK
* checking for unstated dependencies in vignettes ... OK
* checking package vignettes in ‘inst/doc’ ... OK
* checking running R code from vignettes ... SKIPPED
* checking re-building of vignette outputs ... SKIPPED
* checking PDF version of manual ... OK
* DONE
Status: 2 NOTEs
See
‘/Users/biocbuild/bbs-3.6-bioc/meat/motifStack.Rcheck/00check.log’
for details.
motifStack.Rcheck/00install.out
* installing *source* package ‘motifStack’ ... ** R ** inst ** preparing package for lazy loading ** help *** installing help indices ** building package indices ** installing vignettes ** testing if installed package can be loaded * DONE (motifStack)
motifStack.Rcheck/tests/runTests.Rout
R version 3.4.4 (2018-03-15) -- "Someone to Lean On"
Copyright (C) 2018 The R Foundation for Statistical Computing
Platform: x86_64-apple-darwin15.6.0 (64-bit)
R is free software and comes with ABSOLUTELY NO WARRANTY.
You are welcome to redistribute it under certain conditions.
Type 'license()' or 'licence()' for distribution details.
R is a collaborative project with many contributors.
Type 'contributors()' for more information and
'citation()' on how to cite R or R packages in publications.
Type 'demo()' for some demos, 'help()' for on-line help, or
'help.start()' for an HTML browser interface to help.
Type 'q()' to quit R.
> require("motifStack") || stop("unable to load Package:motifStack")
Loading required package: motifStack
Loading required package: grImport
Loading required package: grid
Loading required package: XML
Loading required package: MotIV
Loading required package: BiocGenerics
Loading required package: parallel
Attaching package: 'BiocGenerics'
The following objects are masked from 'package:parallel':
clusterApply, clusterApplyLB, clusterCall, clusterEvalQ,
clusterExport, clusterMap, parApply, parCapply, parLapply,
parLapplyLB, parRapply, parSapply, parSapplyLB
The following objects are masked from 'package:stats':
IQR, mad, sd, var, xtabs
The following objects are masked from 'package:base':
Filter, Find, Map, Position, Reduce, anyDuplicated, append,
as.data.frame, cbind, colMeans, colSums, colnames, do.call,
duplicated, eval, evalq, get, grep, grepl, intersect, is.unsorted,
lapply, lengths, mapply, match, mget, order, paste, pmax, pmax.int,
pmin, pmin.int, rank, rbind, rowMeans, rowSums, rownames, sapply,
setdiff, sort, table, tapply, union, unique, unsplit, which,
which.max, which.min
Attaching package: 'MotIV'
The following object is masked from 'package:stats':
filter
Loading required package: ade4
Attaching package: 'ade4'
The following object is masked from 'package:BiocGenerics':
score
Loading required package: Biostrings
Loading required package: S4Vectors
Loading required package: stats4
Attaching package: 'S4Vectors'
The following object is masked from 'package:base':
expand.grid
Loading required package: IRanges
Loading required package: XVector
Attaching package: 'Biostrings'
The following object is masked from 'package:base':
strsplit
[1] TRUE
> #require("MotifDb") || stop("unalble to load Package::motifDb")
> BiocGenerics:::testPackage("motifStack")
Read 76 items
Read 72 items
Read 32 items
Read 28 items
Read 28 items
Read 44 items
Read 28 items
Read 36 items
Read 32 items
Read 44 items
Read 44 items
Read 32 items
Read 44 items
Read 60 items
Read 60 items
Read 55 items
Read 45 items
Read 35 items
RUNIT TEST PROTOCOL -- Thu Apr 12 06:47:29 2018
***********************************************
Number of test functions: 10
Number of errors: 0
Number of failures: 0
1 Test Suite :
motifStack RUnit Tests - 10 test functions, 0 errors, 0 failures
Number of test functions: 10
Number of errors: 0
Number of failures: 0
>
> proc.time()
user system elapsed
13.072 0.335 13.724
motifStack.Rcheck/motifStack-Ex.timings
| name | user | system | elapsed | |
| DNAmotifAlignment | 0.395 | 0.011 | 0.412 | |
| browseMotifs | 3.611 | 0.082 | 3.749 | |
| colorset | 0.001 | 0.000 | 0.000 | |
| getRankedUniqueMotifs | 0.003 | 0.000 | 0.003 | |
| highlightCol | 0.001 | 0.000 | 0.001 | |
| importMatrix | 0.056 | 0.004 | 0.060 | |
| mergeMotifs | 0.634 | 0.003 | 0.645 | |
| motifCircos | 0.009 | 0.001 | 0.011 | |
| motifCloud | 0.006 | 0.000 | 0.006 | |
| motifPiles | 0.008 | 0.001 | 0.009 | |
| motifSignature | 0.005 | 0.000 | 0.006 | |
| motifStack | 0.003 | 0.001 | 0.003 | |
| ouNode-class | 0.003 | 0.000 | 0.004 | |
| pcm-class | 1.087 | 0.156 | 1.424 | |
| pcm-methods | 0.005 | 0.001 | 0.007 | |
| pfm-class | 0.734 | 0.126 | 0.912 | |
| pfm-methods | 0.009 | 0.002 | 0.010 | |
| pfm2pwm | 0.132 | 0.002 | 0.135 | |
| plotAffinityLogo | 1.152 | 0.156 | 1.362 | |
| plotMotifLogo | 0.604 | 0.124 | 0.770 | |
| plotMotifLogoA | 0.760 | 0.128 | 0.938 | |
| plotMotifLogoStack | 0.587 | 0.123 | 0.751 | |
| plotMotifLogoStackWithTree | 1.725 | 0.250 | 2.098 | |
| plotMotifOverMotif | 0.739 | 0.124 | 0.913 | |
| plotMotifStackWithPhylog | 0.004 | 0.000 | 0.004 | |
| plotMotifStackWithRadialPhylog | 0.006 | 0.000 | 0.007 | |
| psam-class | 1.094 | 0.126 | 1.280 | |
| psam-methods | 0.020 | 0.002 | 0.021 | |
| readPCM | 0.010 | 0.001 | 0.011 | |
| reorderUPGMAtree | 0.003 | 0.000 | 0.003 | |