| Back to Multiple platform build/check report for BioC 3.6 |
|
This page was generated on 2018-04-12 13:08:43 -0400 (Thu, 12 Apr 2018).
| Package 844/1472 | Hostname | OS / Arch | INSTALL | BUILD | CHECK | BUILD BIN | ||||||
| methylumi 2.24.1 Sean Davis
| malbec1 | Linux (Ubuntu 16.04.1 LTS) / x86_64 | OK | [ OK ] | WARNINGS | |||||||
| tokay1 | Windows Server 2012 R2 Standard / x64 | OK | OK | WARNINGS | OK | |||||||
| veracruz1 | OS X 10.11.6 El Capitan / x86_64 | OK | OK | WARNINGS | OK |
| Package: methylumi |
| Version: 2.24.1 |
| Command: /home/biocbuild/bbs-3.6-bioc/R/bin/R CMD build --keep-empty-dirs --no-resave-data methylumi |
| StartedAt: 2018-04-11 18:30:38 -0400 (Wed, 11 Apr 2018) |
| EndedAt: 2018-04-11 18:34:42 -0400 (Wed, 11 Apr 2018) |
| EllapsedTime: 243.9 seconds |
| RetCode: 0 |
| Status: OK |
| PackageFile: methylumi_2.24.1.tar.gz |
| PackageFileSize: 5.893 MiB |
##############################################################################
##############################################################################
###
### Running command:
###
### /home/biocbuild/bbs-3.6-bioc/R/bin/R CMD build --keep-empty-dirs --no-resave-data methylumi
###
##############################################################################
##############################################################################
* checking for file ‘methylumi/DESCRIPTION’ ... OK
* preparing ‘methylumi’:
* checking DESCRIPTION meta-information ... OK
* installing the package to build vignettes
* creating vignettes ... OK
Warning: ‘inst/doc’ file
‘methylumi450k.R’
ignored as vignettes have been rebuilt.
Run R CMD build with --no-build-vignettes to prevent rebuilding.
* checking for LF line-endings in source and make files and shell scripts
* checking for empty or unneeded directories
* looking to see if a ‘data/datalist’ file should be added
* building ‘methylumi_2.24.1.tar.gz’