| Back to Multiple platform build/check report for BioC 3.6 |
|
This page was generated on 2018-04-12 13:25:38 -0400 (Thu, 12 Apr 2018).
| Package 585/1472 | Hostname | OS / Arch | INSTALL | BUILD | CHECK | BUILD BIN | ||||||
| ggtree 1.10.5 Guangchuang Yu
| malbec1 | Linux (Ubuntu 16.04.1 LTS) / x86_64 | OK | OK | OK | |||||||
| tokay1 | Windows Server 2012 R2 Standard / x64 | [ OK ] | OK | WARNINGS | OK | |||||||
| veracruz1 | OS X 10.11.6 El Capitan / x86_64 | OK | OK | OK | OK |
| Package: ggtree |
| Version: 1.10.5 |
| Command: rm -rf ggtree.buildbin-libdir && mkdir ggtree.buildbin-libdir && C:\cygwin\bin\curl.exe -O https://malbec1.bioconductor.org/BBS/3.6/bioc/src/contrib/ggtree_1.10.5.tar.gz && C:\Users\biocbuild\bbs-3.6-bioc\R\bin\R.exe CMD INSTALL --build --library=ggtree.buildbin-libdir --merge-multiarch ggtree_1.10.5.tar.gz && C:\Users\biocbuild\bbs-3.6-bioc\R\bin\R.exe CMD INSTALL ggtree_1.10.5.zip && rm ggtree_1.10.5.tar.gz ggtree_1.10.5.zip |
| StartedAt: 2018-04-11 18:22:32 -0400 (Wed, 11 Apr 2018) |
| EndedAt: 2018-04-11 18:25:06 -0400 (Wed, 11 Apr 2018) |
| EllapsedTime: 153.6 seconds |
| RetCode: 0 |
| Status: OK |
##############################################################################
##############################################################################
###
### Running command:
###
### rm -rf ggtree.buildbin-libdir && mkdir ggtree.buildbin-libdir && C:\cygwin\bin\curl.exe -O https://malbec1.bioconductor.org/BBS/3.6/bioc/src/contrib/ggtree_1.10.5.tar.gz && C:\Users\biocbuild\bbs-3.6-bioc\R\bin\R.exe CMD INSTALL --build --library=ggtree.buildbin-libdir --merge-multiarch ggtree_1.10.5.tar.gz && C:\Users\biocbuild\bbs-3.6-bioc\R\bin\R.exe CMD INSTALL ggtree_1.10.5.zip && rm ggtree_1.10.5.tar.gz ggtree_1.10.5.zip
###
##############################################################################
##############################################################################
% Total % Received % Xferd Average Speed Time Time Time Current
Dload Upload Total Spent Left Speed
0 0 0 0 0 0 0 0 --:--:-- --:--:-- --:--:-- 0
100 3286k 100 3286k 0 0 62.5M 0 --:--:-- --:--:-- --:--:-- 66.8M
install for i386
* installing *source* package 'ggtree' ...
** R
** inst
** byte-compile and prepare package for lazy loading
Note: wrong number of arguments to '>'
** help
*** installing help indices
converting help for package 'ggtree'
finding HTML links ... done
Date2decimal html
GetSubtree.df html
GetSubtreeUnrooted html
MRCA html
NJ html
add-TREEDATA html
add_TREEINFO html
add_colorbar html
annotation_image html
apeBoot html
applyLayoutDaylight html
as.binary html
as.data.frame.phylo html
as.polytomy html
collapse html
decimal2Date html
dotFun html
download.phylopic html
expand html
facet_plot html
flip html
fortify html
geom_aline html
geom_balance html
geom_cladelabel html
geom_cladelabel2 html
geom_hilight html
geom_hilight_encircle html
geom_label2 html
Rd warning: C:/Users/biocbuild/bbs-3.6-bioc/tmpdir/RtmpugYjHn/R.INSTALL1786dbc2387/ggtree/man/geom_label2.Rd:52: missing file link 'geom_label'
geom_motif html
geom_nodelab html
geom_nodepoint html
geom_point2 html
geom_range html
geom_rootpoint html
geom_segment2 html
geom_strip html
geom_taxalink html
geom_text2 html
geom_tiplab html
geom_tiplab2 html
geom_tippoint html
geom_tree html
geom_tree2 html
geom_treescale html
get.offspring.tip html
get.path html
get.phylopic html
getChild.df html
getNodeAngle.df html
getNodesBreadthFirst.df html
getParent.df html
getSubtree html
getSubtreeUnrooted.df html
getTreeArcAngles html
get_balance_position html
get_clade_position html
get_heatmap_column_position html
get_taxa_name html
ggtree-ggproto html
ggtree html
gheatmap html
groupClade-methods html
groupOTU-methods html
gzoom-methods html
gzoom.phylo html
identify html
inset html
layoutDaylight html
layoutEqualAngle html
msaplot html
multiplot html
nodebar html
nodeid html
nodepie html
open_tree html
phylopic html
pipe html
print.beastList html
reroot-methods html
rescale_tree html
revts html
rm.singleton.newick html
rotate html
rotateTreePoints.df html
rotate_tree html
scaleClade html
scale_color-methods html
scale_x_ggtree html
set_hilight_legend html
stat_balance html
stat_hilight html
subview html
theme_inset html
theme_transparent html
theme_tree html
theme_tree2 html
update-TREE html
viewClade html
xlim_expand html
xlim_tree html
** building package indices
** installing vignettes
** testing if installed package can be loaded
In R CMD INSTALL
install for x64
* installing *source* package 'ggtree' ...
** testing if installed package can be loaded
* MD5 sums
packaged installation of 'ggtree' as ggtree_1.10.5.zip
* DONE (ggtree)
In R CMD INSTALL
In R CMD INSTALL
* installing to library 'C:/Users/biocbuild/bbs-3.6-bioc/R/library'
package 'ggtree' successfully unpacked and MD5 sums checked
In R CMD INSTALL