| Back to Multiple platform build/check report for BioC 3.6 | 
 | 
This page was generated on 2018-04-12 13:10:34 -0400 (Thu, 12 Apr 2018).
| Package 501/1472 | Hostname | OS / Arch | INSTALL | BUILD | CHECK | BUILD BIN | ||||||
| fmcsR 1.20.0 Thomas Girke 
 | malbec1 | Linux (Ubuntu 16.04.1 LTS) / x86_64 | OK | [ OK ] | OK |  | ||||||
| tokay1 | Windows Server 2012 R2 Standard / x64 | OK | OK | OK | OK |  | ||||||
| veracruz1 | OS X 10.11.6 El Capitan / x86_64 | OK | OK | OK | OK |  | 
| Package: fmcsR | 
| Version: 1.20.0 | 
| Command: /home/biocbuild/bbs-3.6-bioc/R/bin/R CMD build --keep-empty-dirs --no-resave-data fmcsR | 
| StartedAt: 2018-04-11 19:07:04 -0400 (Wed, 11 Apr 2018) | 
| EndedAt: 2018-04-11 19:07:44 -0400 (Wed, 11 Apr 2018) | 
| EllapsedTime: 40.0 seconds | 
| RetCode: 0 | 
| Status: OK | 
| PackageFile: fmcsR_1.20.0.tar.gz | 
| PackageFileSize: 692 KiB | 
############################################################################## ############################################################################## ### ### Running command: ### ### /home/biocbuild/bbs-3.6-bioc/R/bin/R CMD build --keep-empty-dirs --no-resave-data fmcsR ### ############################################################################## ############################################################################## * checking for file ‘fmcsR/DESCRIPTION’ ... OK * preparing ‘fmcsR’: * checking DESCRIPTION meta-information ... OK * cleaning src * installing the package to build vignettes * creating vignettes ... OK * cleaning src * checking for LF line-endings in source and make files and shell scripts * checking for empty or unneeded directories * looking to see if a ‘data/datalist’ file should be added * building ‘fmcsR_1.20.0.tar.gz’