| Back to Multiple platform build/check report for BioC 3.6 |
|
This page was generated on 2018-04-12 13:18:30 -0400 (Thu, 12 Apr 2018).
| Package 498/1472 | Hostname | OS / Arch | INSTALL | BUILD | CHECK | BUILD BIN | ||||||
| flowViz 1.42.0 Mike Jiang
| malbec1 | Linux (Ubuntu 16.04.1 LTS) / x86_64 | OK | OK | OK | |||||||
| tokay1 | Windows Server 2012 R2 Standard / x64 | OK | [ OK ] | WARNINGS | OK | |||||||
| veracruz1 | OS X 10.11.6 El Capitan / x86_64 | OK | OK | OK | OK |
| Package: flowViz |
| Version: 1.42.0 |
| Command: chmod a+r flowViz -R && C:\Users\biocbuild\bbs-3.6-bioc\R\bin\R.exe CMD build --keep-empty-dirs --no-resave-data flowViz |
| StartedAt: 2018-04-11 19:12:26 -0400 (Wed, 11 Apr 2018) |
| EndedAt: 2018-04-11 19:17:47 -0400 (Wed, 11 Apr 2018) |
| EllapsedTime: 320.8 seconds |
| RetCode: 0 |
| Status: OK |
| PackageFile: flowViz_1.42.0.tar.gz |
| PackageFileSize: 646.3 KiB |
##############################################################################
##############################################################################
###
### Running command:
###
### chmod a+r flowViz -R && C:\Users\biocbuild\bbs-3.6-bioc\R\bin\R.exe CMD build --keep-empty-dirs --no-resave-data flowViz
###
##############################################################################
##############################################################################
* checking for file 'flowViz/DESCRIPTION' ... OK
* preparing 'flowViz':
* checking DESCRIPTION meta-information ... OK
* installing the package to build vignettes
* creating vignettes ... OK
Warning: 'inst/doc' file
'filters.html'
ignored as vignettes have been rebuilt.
Run R CMD build with --no-build-vignettes to prevent rebuilding.
* checking for LF line-endings in source and make files and shell scripts
* checking for empty or unneeded directories
* building 'flowViz_1.42.0.tar.gz'