| Back to Multiple platform build/check report for BioC 3.6 | 
 | 
This page was generated on 2018-04-12 13:10:49 -0400 (Thu, 12 Apr 2018).
| Package 425/1472 | Hostname | OS / Arch | INSTALL | BUILD | CHECK | BUILD BIN | ||||||
| ensemblVEP 1.20.1 Bioconductor Package Maintainer 
 | malbec1 | Linux (Ubuntu 16.04.1 LTS) / x86_64 | [ OK ] | OK | OK |  | ||||||
| tokay1 | Windows Server 2012 R2 Standard / x64 | ...NOT SUPPORTED...NOT SUPPORTED...NOT SUPPORTED... | ||||||||||
| veracruz1 | OS X 10.11.6 El Capitan / x86_64 | OK | OK | OK | OK |  | ||||||
| Package: ensemblVEP | 
| Version: 1.20.1 | 
| Command: /home/biocbuild/bbs-3.6-bioc/R/bin/R CMD INSTALL ensemblVEP | 
| StartedAt: 2018-04-11 18:06:53 -0400 (Wed, 11 Apr 2018) | 
| EndedAt: 2018-04-11 18:07:14 -0400 (Wed, 11 Apr 2018) | 
| EllapsedTime: 20.5 seconds | 
| RetCode: 0 | 
| Status: OK | 
############################################################################## ############################################################################## ### ### Running command: ### ### /home/biocbuild/bbs-3.6-bioc/R/bin/R CMD INSTALL ensemblVEP ### ############################################################################## ############################################################################## * installing to library ‘/home/biocbuild/bbs-3.6-bioc/R/library’ * installing *source* package ‘ensemblVEP’ ... ** R ** inst ** preparing package for lazy loading ** help *** installing help indices ** building package indices ** installing vignettes ** testing if installed package can be loaded * DONE (ensemblVEP)