| Back to Multiple platform build/check report for BioC 3.6 |
|
This page was generated on 2018-04-12 13:36:26 -0400 (Thu, 12 Apr 2018).
| Package 241/1472 | Hostname | OS / Arch | INSTALL | BUILD | CHECK | BUILD BIN | ||||||
| clipper 1.18.0 Paolo Martini
| malbec1 | Linux (Ubuntu 16.04.1 LTS) / x86_64 | OK | OK | OK | |||||||
| tokay1 | Windows Server 2012 R2 Standard / x64 | OK | OK | OK | OK | |||||||
| veracruz1 | OS X 10.11.6 El Capitan / x86_64 | OK | OK | OK | [ OK ] |
| Package: clipper |
| Version: 1.18.0 |
| Command: rm -rf clipper.buildbin-libdir && mkdir clipper.buildbin-libdir && /Users/biocbuild/BBS/utils/build-universal.sh clipper_1.18.0.tar.gz /Library/Frameworks/R.framework/Versions/Current/Resources/bin/R clipper.buildbin-libdir |
| StartedAt: 2018-04-12 11:15:41 -0400 (Thu, 12 Apr 2018) |
| EndedAt: 2018-04-12 11:16:06 -0400 (Thu, 12 Apr 2018) |
| EllapsedTime: 24.5 seconds |
| RetCode: 0 |
| Status: OK |
| PackageFile: clipper_1.18.0.tgz |
| PackageFileSize: 631.2 KiB |
############################################################################## ############################################################################## ### ### Running command: ### ### rm -rf clipper.buildbin-libdir && mkdir clipper.buildbin-libdir && /Users/biocbuild/BBS/utils/build-universal.sh clipper_1.18.0.tar.gz /Library/Frameworks/R.framework/Versions/Current/Resources/bin/R clipper.buildbin-libdir ### ############################################################################## ############################################################################## >>>>>>> >>>>>>> INSTALLATION WITH 'R CMD INSTALL --preclean --no-multiarch --library=clipper.buildbin-libdir clipper_1.18.0.tar.gz' >>>>>>> * installing *source* package ‘clipper’ ... ** R ** inst ** preparing package for lazy loading ** help *** installing help indices ** building package indices ** installing vignettes ** testing if installed package can be loaded * DONE (clipper)