| Back to Multiple platform build/check report for BioC 3.6 |
|
This page was generated on 2018-04-12 13:36:06 -0400 (Thu, 12 Apr 2018).
| Package 115/1472 | Hostname | OS / Arch | INSTALL | BUILD | CHECK | BUILD BIN | ||||||
| bigmemoryExtras 1.26.1 Peter M. Haverty
| malbec1 | Linux (Ubuntu 16.04.1 LTS) / x86_64 | OK | OK | WARNINGS | |||||||
| tokay1 | Windows Server 2012 R2 Standard / x64 | ...NOT SUPPORTED...NOT SUPPORTED...NOT SUPPORTED... | ||||||||||
| veracruz1 | OS X 10.11.6 El Capitan / x86_64 | OK | OK | WARNINGS | [ OK ] | |||||||
| Package: bigmemoryExtras |
| Version: 1.26.1 |
| Command: rm -rf bigmemoryExtras.buildbin-libdir && mkdir bigmemoryExtras.buildbin-libdir && /Users/biocbuild/BBS/utils/build-universal.sh bigmemoryExtras_1.26.1.tar.gz /Library/Frameworks/R.framework/Versions/Current/Resources/bin/R bigmemoryExtras.buildbin-libdir |
| StartedAt: 2018-04-12 11:09:30 -0400 (Thu, 12 Apr 2018) |
| EndedAt: 2018-04-12 11:09:38 -0400 (Thu, 12 Apr 2018) |
| EllapsedTime: 8.2 seconds |
| RetCode: 0 |
| Status: OK |
| PackageFile: bigmemoryExtras_1.26.1.tgz |
| PackageFileSize: 163.1 KiB |
############################################################################## ############################################################################## ### ### Running command: ### ### rm -rf bigmemoryExtras.buildbin-libdir && mkdir bigmemoryExtras.buildbin-libdir && /Users/biocbuild/BBS/utils/build-universal.sh bigmemoryExtras_1.26.1.tar.gz /Library/Frameworks/R.framework/Versions/Current/Resources/bin/R bigmemoryExtras.buildbin-libdir ### ############################################################################## ############################################################################## >>>>>>> >>>>>>> INSTALLATION WITH 'R CMD INSTALL --preclean --no-multiarch --library=bigmemoryExtras.buildbin-libdir bigmemoryExtras_1.26.1.tar.gz' >>>>>>> * installing *source* package ‘bigmemoryExtras’ ... ** R ** inst ** byte-compile and prepare package for lazy loading Creating a generic function for ‘apply’ from package ‘base’ in package ‘bigmemoryExtras’ Creating a generic function for ‘nlevels’ from package ‘base’ in package ‘bigmemoryExtras’ ** help *** installing help indices ** building package indices ** installing vignettes ** testing if installed package can be loaded * DONE (bigmemoryExtras)