| Back to Multiple platform build/check report for BioC 3.6 |
|
This page was generated on 2018-04-12 13:08:50 -0400 (Thu, 12 Apr 2018).
| Package 98/1472 | Hostname | OS / Arch | INSTALL | BUILD | CHECK | BUILD BIN | ||||||
| baySeq 2.12.0 Thomas J. Hardcastle
| malbec1 | Linux (Ubuntu 16.04.1 LTS) / x86_64 | OK | OK | [ OK ] | |||||||
| tokay1 | Windows Server 2012 R2 Standard / x64 | OK | OK | OK | OK | |||||||
| veracruz1 | OS X 10.11.6 El Capitan / x86_64 | OK | OK | OK | OK |
| Package: baySeq |
| Version: 2.12.0 |
| Command: /home/biocbuild/bbs-3.6-bioc/R/bin/R CMD check --no-vignettes --timings baySeq_2.12.0.tar.gz |
| StartedAt: 2018-04-11 21:40:32 -0400 (Wed, 11 Apr 2018) |
| EndedAt: 2018-04-11 21:43:20 -0400 (Wed, 11 Apr 2018) |
| EllapsedTime: 168.7 seconds |
| RetCode: 0 |
| Status: OK |
| CheckDir: baySeq.Rcheck |
| Warnings: 0 |
##############################################################################
##############################################################################
###
### Running command:
###
### /home/biocbuild/bbs-3.6-bioc/R/bin/R CMD check --no-vignettes --timings baySeq_2.12.0.tar.gz
###
##############################################################################
##############################################################################
* using log directory ‘/home/biocbuild/bbs-3.6-bioc/meat/baySeq.Rcheck’
* using R version 3.4.4 (2018-03-15)
* using platform: x86_64-pc-linux-gnu (64-bit)
* using session charset: UTF-8
* using option ‘--no-vignettes’
* checking for file ‘baySeq/DESCRIPTION’ ... OK
* checking extension type ... Package
* this is package ‘baySeq’ version ‘2.12.0’
* checking package namespace information ... OK
* checking package dependencies ... OK
* checking if this is a source package ... OK
* checking if there is a namespace ... OK
* checking for hidden files and directories ... OK
* checking for portable file names ... OK
* checking for sufficient/correct file permissions ... OK
* checking whether package ‘baySeq’ can be installed ... OK
* checking installed package size ... OK
* checking package directory ... OK
* checking ‘build’ directory ... OK
* checking DESCRIPTION meta-information ... OK
* checking top-level files ... OK
* checking for left-over files ... OK
* checking index information ... OK
* checking package subdirectories ... OK
* checking R files for non-ASCII characters ... OK
* checking R files for syntax errors ... OK
* checking whether the package can be loaded ... OK
* checking whether the package can be loaded with stated dependencies ... OK
* checking whether the package can be unloaded cleanly ... OK
* checking whether the namespace can be loaded with stated dependencies ... OK
* checking whether the namespace can be unloaded cleanly ... OK
* checking dependencies in R code ... OK
* checking S3 generic/method consistency ... OK
* checking replacement functions ... OK
* checking foreign function calls ... OK
* checking R code for possible problems ... OK
* checking Rd files ... OK
* checking Rd metadata ... OK
* checking Rd cross-references ... OK
* checking for missing documentation entries ... OK
* checking for code/documentation mismatches ... OK
* checking Rd \usage sections ... OK
* checking Rd contents ... OK
* checking for unstated dependencies in examples ... OK
* checking contents of ‘data’ directory ... OK
* checking data for non-ASCII characters ... OK
* checking data for ASCII and uncompressed saves ... OK
* checking installed files from ‘inst/doc’ ... OK
* checking files in ‘vignettes’ ... OK
* checking examples ... OK
Examples with CPU or elapsed time > 5s
user system elapsed
baySeq-package 40.860 0.032 40.920
getPriors 28.024 0.012 28.054
getLikelihoods 12.692 0.008 12.709
* checking for unstated dependencies in vignettes ... OK
* checking package vignettes in ‘inst/doc’ ... OK
* checking running R code from vignettes ... SKIPPED
* checking re-building of vignette outputs ... SKIPPED
* checking PDF version of manual ... OK
* DONE
Status: OK
baySeq.Rcheck/00install.out
* installing *source* package ‘baySeq’ ... ** R ** data ** inst ** preparing package for lazy loading ** help *** installing help indices ** building package indices ** installing vignettes ** testing if installed package can be loaded * DONE (baySeq)
baySeq.Rcheck/baySeq-Ex.timings
| name | user | system | elapsed | |
| allModels | 0.508 | 0.008 | 0.516 | |
| baySeq-classes | 0.120 | 0.008 | 0.128 | |
| baySeq-package | 40.860 | 0.032 | 40.920 | |
| bimodalSep | 0.004 | 0.000 | 0.002 | |
| densityFunction | 0.000 | 0.000 | 0.002 | |
| getLibsizes | 0.008 | 0.000 | 0.010 | |
| getLikelihoods | 12.692 | 0.008 | 12.709 | |
| getPosteriors | 0.020 | 0.000 | 0.021 | |
| getPriors | 28.024 | 0.012 | 28.054 | |
| getTPs | 0.024 | 0.000 | 0.024 | |
| makeOrderings | 0.044 | 0.000 | 0.044 | |
| marginaliseEqual | 0.54 | 0.00 | 0.54 | |
| marginalisePairwise | 0.320 | 0.000 | 0.319 | |
| plotMA.CD | 0.012 | 0.000 | 0.011 | |
| plotPosteriors | 0.024 | 0.000 | 0.021 | |
| plotPriors | 0.012 | 0.000 | 0.011 | |
| selectTop | 0.088 | 0.004 | 0.093 | |
| summarisePosteriors | 0.012 | 0.004 | 0.014 | |
| topCounts | 0.068 | 0.000 | 0.067 | |