| Back to Multiple platform build/check report for BioC 3.6 | 
 | 
This page was generated on 2018-04-12 13:18:36 -0400 (Thu, 12 Apr 2018).
| Package 56/1472 | Hostname | OS / Arch | INSTALL | BUILD | CHECK | BUILD BIN | ||||||
| annotationTools 1.52.0 Alexandre Kuhn 
 | malbec1 | Linux (Ubuntu 16.04.1 LTS) / x86_64 | OK | OK | OK |  | ||||||
| tokay1 | Windows Server 2012 R2 Standard / x64 | [ OK ] | OK | OK | OK |  | ||||||
| veracruz1 | OS X 10.11.6 El Capitan / x86_64 | OK | OK | OK | OK |  | 
| Package: annotationTools | 
| Version: 1.52.0 | 
| Command: rm -rf annotationTools.buildbin-libdir && mkdir annotationTools.buildbin-libdir && C:\cygwin\bin\curl.exe -O https://malbec1.bioconductor.org/BBS/3.6/bioc/src/contrib/annotationTools_1.52.0.tar.gz && C:\Users\biocbuild\bbs-3.6-bioc\R\bin\R.exe CMD INSTALL --build --library=annotationTools.buildbin-libdir --merge-multiarch annotationTools_1.52.0.tar.gz && C:\Users\biocbuild\bbs-3.6-bioc\R\bin\R.exe CMD INSTALL annotationTools_1.52.0.zip && rm annotationTools_1.52.0.tar.gz annotationTools_1.52.0.zip | 
| StartedAt: 2018-04-11 18:24:04 -0400 (Wed, 11 Apr 2018) | 
| EndedAt: 2018-04-11 18:24:48 -0400 (Wed, 11 Apr 2018) | 
| EllapsedTime: 43.8 seconds | 
| RetCode: 0 | 
| Status: OK | 
##############################################################################
##############################################################################
###
### Running command:
###
###   rm -rf annotationTools.buildbin-libdir && mkdir annotationTools.buildbin-libdir  && C:\cygwin\bin\curl.exe -O https://malbec1.bioconductor.org/BBS/3.6/bioc/src/contrib/annotationTools_1.52.0.tar.gz && C:\Users\biocbuild\bbs-3.6-bioc\R\bin\R.exe CMD INSTALL --build --library=annotationTools.buildbin-libdir --merge-multiarch annotationTools_1.52.0.tar.gz && C:\Users\biocbuild\bbs-3.6-bioc\R\bin\R.exe CMD INSTALL annotationTools_1.52.0.zip  && rm annotationTools_1.52.0.tar.gz annotationTools_1.52.0.zip
###
##############################################################################
##############################################################################
  % Total    % Received % Xferd  Average Speed   Time    Time     Time  Current
                                 Dload  Upload   Total   Spent    Left  Speed
  0     0    0     0    0     0      0      0 --:--:-- --:--:-- --:--:--     0
100  124k  100  124k    0     0  5072k      0 --:--:-- --:--:-- --:--:-- 5905k
install for i386
* installing *source* package 'annotationTools' ...
** R
** data
** inst
** preparing package for lazy loading
** help
*** installing help indices
  converting help for package 'annotationTools'
    finding HTML links ... done
    HG-U133_Plus_2_annot_part               html  
    HG-U133_Plus_2_ortholog_part            html  
    Mouse430_2_annot_part                   html  
    annot_HGU133A                           html  
    compactList                             html  
    gene_group_part                         html  
    getANNOTATION                           html  
    getGENEID                               html  
    getGENEONTOLOGY                         html  
    getGENESYMBOL                           html  
    getGENETITLE                            html  
    getHOMOLOG                              html  
    getMULTIANNOTATION                      html  
    getOrthologousProbesets                 html  
    getPROBESET                             html  
    homologene_part                         html  
    listToCharacterVector                   html  
    ortho                                   html  
    ps2ps                                   html  
    table_human                             html  
    table_mouse                             html  
** building package indices
** installing vignettes
** testing if installed package can be loaded
In R CMD INSTALL
install for x64
* installing *source* package 'annotationTools' ...
** testing if installed package can be loaded
* MD5 sums
packaged installation of 'annotationTools' as annotationTools_1.52.0.zip
* DONE (annotationTools)
In R CMD INSTALL
In R CMD INSTALL
* installing to library 'C:/Users/biocbuild/bbs-3.6-bioc/R/library'
package 'annotationTools' successfully unpacked and MD5 sums checked
In R CMD INSTALL